FILENAME: O4810434.NWS.1163083.tif
QUADRANGLE_NAME: SMOKE CREEK NE
QUADRANT: NW
WEST_LONGITUDE: -104 52 30.00000
EAST_LONGITUDE: -104 48 45.00000
NORTH_LATITUDE: 48 30 0.00000
SOUTH_LATITUDE: 48 26 15.00000
PRODUCTION_DATE: 2001 9 22
RASTER_ORDER: LEFT_RIGHT/TOP_BOTTOM
BAND_ORGANIZATION: SINGLE FILE
BAND_CONTENT: BLACK&WHITE
BAND_CONTENT: UNDEFINED
BAND_CONTENT: UNDEFINED
BITS_PER_PIXEL: 8
SAMPLES_AND_LINES: 5283 7571
HORIZONTAL_DATUM: NAD83
HORIZONTAL_COORDINATE_SYSTEM: UTM
COORDINATE_ZONE: 13
HORIZONTAL_UNITS: meters
HORIZONTAL_RESOLUTION: 1.00000
SECONDARY_HORIZONTAL_DATUM: NAD27
XY_ORIGIN: 508890.00000 5372201.00000
SECONDARY_XY_ORIGIN: 508929.04400 5371979.48000
NATION: US
STATE: MT
NW_QUAD_CORNER_XY: 509233.98000 5371883.12100
NE_QUAD_CORNER_XY: 513850.96900 5371892.55100
SE_QUAD_CORNERY_XY: 513867.98800 5364945.37100
SW_QUAD_CORNER_XY: 509245.32600 5364935.93800
SECONDARY_NW_QUAD_XY: 509234.27400 5371664.14800
SECONDARY_NE_QUAD_XY: 513851.40900 5371673.57900
SECONDARY_SE_QUAD_XY: 513868.42800 5364726.40700
SECONDARY_SW_QUAD_XY: 509245.62000 5364716.97400
RMSE_XY: 3.44000
IMAGE_SOURCE: BLACK AND WHITE FILM
SOURCE_IMAGE_ID: NAPP 9081-105
SOURCE_IMAGE_DATE: 1996 6 12
SOURCE_DEM_DATE: 1998 0 0
AGENCY: WESTERN MAPPING CENTER (WMC)
PRODUCER: WOOLPERT LLP
PRODUCTION_SYSTEM: INTERGRAPH ISPM, ISIR
COMPRESSION: UNDEFINED
STANDARD_VERSION: 1996 12
METADATA_DATE: 2001 9 23
DATA_FILE_SIZE: 40002876
BYTE_COUNT: 5283
