FILENAME: O4810433.SES.1163072.tif
QUADRANGLE_NAME: BIEM SCHOOL
QUADRANT: SE
WEST_LONGITUDE: -104 56 15.00000
EAST_LONGITUDE: -104 52 30.00000
NORTH_LATITUDE: 48 26 15.00000
SOUTH_LATITUDE: 48 22 30.00000
PRODUCTION_DATE: 2001 9 27
RASTER_ORDER: LEFT_RIGHT/TOP_BOTTOM
BAND_ORGANIZATION: SINGLE FILE
BAND_CONTENT: BLACK&WHITE
BAND_CONTENT: UNDEFINED
BAND_CONTENT: UNDEFINED
BITS_PER_PIXEL: 8
SAMPLES_AND_LINES: 5284 7566
HORIZONTAL_DATUM: NAD83
HORIZONTAL_COORDINATE_SYSTEM: UTM
COORDINATE_ZONE: 13
HORIZONTAL_UNITS: meters
HORIZONTAL_RESOLUTION: 1.00000
SECONDARY_HORIZONTAL_DATUM: NAD27
XY_ORIGIN: 504278.00000 5365244.00000
SECONDARY_XY_ORIGIN: 504317.12700 5365022.56500
NATION: US
STATE: MT
NW_QUAD_CORNER_XY: 504622.66400 5364930.27900
NE_QUAD_CORNER_XY: 509245.32600 5364935.93800
SE_QUAD_CORNERY_XY: 509256.66100 5357988.83100
SW_QUAD_CORNER_XY: 504628.33100 5357983.17000
SECONDARY_NW_QUAD_XY: 504622.81000 5364711.31500
SECONDARY_NE_QUAD_XY: 509245.62000 5364716.97400
SECONDARY_SE_QUAD_XY: 509256.95500 5357769.87700
SECONDARY_SW_QUAD_XY: 504628.47800 5357764.21600
RMSE_XY: 4.31000
IMAGE_SOURCE: BLACK AND WHITE FILM
SOURCE_IMAGE_ID: NAPP 9081-194
SOURCE_IMAGE_DATE: 1996 6 12
SOURCE_DEM_DATE: 1998 0 0
AGENCY: WESTERN MAPPING CENTER (WMC)
PRODUCER: WOOLPERT LLP
PRODUCTION_SYSTEM: INTERGRAPH ISPM, ISIR
COMPRESSION: UNDEFINED
STANDARD_VERSION: 1996 12
METADATA_DATE: 2001 9 27
DATA_FILE_SIZE: 39984028
BYTE_COUNT: 5284
