FILENAME: O4810432.SWS.1163548.tif
QUADRANGLE_NAME: BRUSH LAKE
QUADRANT: SW
WEST_LONGITUDE: -104 7 30.00000
EAST_LONGITUDE: -104 3 45.00000
NORTH_LATITUDE: 48 33 45.00000
SOUTH_LATITUDE: 48 30 0.00000
PRODUCTION_DATE: 2001 10 7
RASTER_ORDER: LEFT_RIGHT/TOP_BOTTOM
BAND_ORGANIZATION: SINGLE FILE
BAND_CONTENT: BLACK&WHITE
BAND_CONTENT: UNDEFINED
BAND_CONTENT: UNDEFINED
BITS_PER_PIXEL: 8
SAMPLES_AND_LINES: 5344 7615
HORIZONTAL_DATUM: NAD83
HORIZONTAL_COORDINATE_SYSTEM: UTM
COORDINATE_ZONE: 13
HORIZONTAL_UNITS: meters
HORIZONTAL_RESOLUTION: 1.00000
SECONDARY_HORIZONTAL_DATUM: NAD27
XY_ORIGIN: 564216.00000 5379555.00000
SECONDARY_XY_ORIGIN: 564254.56000 5379333.57300
NATION: US
STATE: MT
NW_QUAD_CORNER_XY: 564558.06100 5379192.40700
NE_QUAD_CORNER_XY: 569169.30300 5379247.09000
SE_QUAD_CORNERY_XY: 569254.48700 5372299.94300
SW_QUAD_CORNER_XY: 564637.56600 5372245.24500
SECONDARY_NW_QUAD_XY: 564560.11600 5378973.43900
SECONDARY_NE_QUAD_XY: 569171.50500 5379028.12400
SECONDARY_SE_QUAD_XY: 569256.68900 5372080.98400
SECONDARY_SW_QUAD_XY: 564639.62100 5372026.28400
RMSE_XY: 4.14000
IMAGE_SOURCE: BLACK AND WHITE FILM
SOURCE_IMAGE_ID: NAPP 8631-018
SOURCE_IMAGE_DATE: 1995 7 28
SOURCE_DEM_DATE: 1996 2 1
AGENCY: WESTERN MAPPING CENTER (WMC)
PRODUCER: WOOLPERT LLP
PRODUCTION_SYSTEM: INTERGRAPH ISPM, ISIR
COMPRESSION: UNDEFINED
STANDARD_VERSION: 1996 12
METADATA_DATE: 2001 10 7
DATA_FILE_SIZE: 40699904
BYTE_COUNT: 5344
