FILENAME: O4810431.NES.1163535.tif
QUADRANGLE_NAME: DAGMAR
QUADRANT: NE
WEST_LONGITUDE: -104 11 15.00000
EAST_LONGITUDE: -104 7 30.00000
NORTH_LATITUDE: 48 37 30.00000
SOUTH_LATITUDE: 48 33 45.00000
PRODUCTION_DATE: 2001 10 7
RASTER_ORDER: LEFT_RIGHT/TOP_BOTTOM
BAND_ORGANIZATION: SINGLE FILE
BAND_CONTENT: BLACK&WHITE
BAND_CONTENT: UNDEFINED
BAND_CONTENT: UNDEFINED
BITS_PER_PIXEL: 8
SAMPLES_AND_LINES: 5333 7612
HORIZONTAL_DATUM: NAD83
HORIZONTAL_COORDINATE_SYSTEM: UTM
COORDINATE_ZONE: 13
HORIZONTAL_UNITS: meters
HORIZONTAL_RESOLUTION: 1.00000
SECONDARY_HORIZONTAL_DATUM: NAD27
XY_ORIGIN: 559531.00000 5386448.00000
SECONDARY_XY_ORIGIN: 559569.54400 5386226.49700
NATION: US
STATE: MT
NW_QUAD_CORNER_XY: 559872.91400 5386088.74500
NE_QUAD_CORNER_XY: 564478.47900 5386139.64300
SE_QUAD_CORNERY_XY: 564558.06100 5379192.40700
SW_QUAD_CORNER_XY: 559946.81100 5379141.49500
SECONDARY_NW_QUAD_XY: 559874.82200 5385869.76800
SECONDARY_NE_QUAD_XY: 564480.53500 5385920.66800
SECONDARY_SE_QUAD_XY: 564560.11600 5378973.43900
SECONDARY_SW_QUAD_XY: 559948.71900 5378922.52500
RMSE_XY: 2.68000
IMAGE_SOURCE: BLACK AND WHITE FILM
SOURCE_IMAGE_ID: NAPP 9123-153
SOURCE_IMAGE_DATE: 1997 8 3
SOURCE_DEM_DATE: 1998 0 0
AGENCY: WESTERN MAPPING CENTER (WMC)
PRODUCER: WOOLPERT LLP
PRODUCTION_SYSTEM: INTERGRAPH ISPM, ISIR
COMPRESSION: UNDEFINED
STANDARD_VERSION: 1996 12
METADATA_DATE: 2001 10 7
DATA_FILE_SIZE: 40600129
BYTE_COUNT: 5333
