FILENAME: O4810431.SES.1163537.tif
QUADRANGLE_NAME: DAGMAR
QUADRANT: SE
WEST_LONGITUDE: -104 11 15.00000
EAST_LONGITUDE: -104 7 30.00000
NORTH_LATITUDE: 48 33 45.00000
SOUTH_LATITUDE: 48 30 0.00000
PRODUCTION_DATE: 2001 10 7
RASTER_ORDER: LEFT_RIGHT/TOP_BOTTOM
BAND_ORGANIZATION: SINGLE FILE
BAND_CONTENT: BLACK&WHITE
BAND_CONTENT: UNDEFINED
BAND_CONTENT: UNDEFINED
BITS_PER_PIXEL: 8
SAMPLES_AND_LINES: 5338 7611
HORIZONTAL_DATUM: NAD83
HORIZONTAL_COORDINATE_SYSTEM: UTM
COORDINATE_ZONE: 13
HORIZONTAL_UNITS: meters
HORIZONTAL_RESOLUTION: 1.00000
SECONDARY_HORIZONTAL_DATUM: NAD27
XY_ORIGIN: 559605.00000 5379500.00000
SECONDARY_XY_ORIGIN: 559643.60000 5379278.56700
NATION: US
STATE: MT
NW_QUAD_CORNER_XY: 559946.81100 5379141.49500
NE_QUAD_CORNER_XY: 564558.06100 5379192.40700
SE_QUAD_CORNERY_XY: 564637.56600 5372245.24500
SW_QUAD_CORNER_XY: 560020.63600 5372194.32000
SECONDARY_NW_QUAD_XY: 559948.71900 5378922.52500
SECONDARY_NE_QUAD_XY: 564560.11600 5378973.43900
SECONDARY_SE_QUAD_XY: 564639.62100 5372026.28400
SECONDARY_SW_QUAD_XY: 560022.54400 5371975.35800
RMSE_XY: 2.85000
IMAGE_SOURCE: BLACK AND WHITE FILM
SOURCE_IMAGE_ID: NAPP 10766-145
SOURCE_IMAGE_DATE: 1998 7 10
SOURCE_DEM_DATE: 1998 0 0
AGENCY: WESTERN MAPPING CENTER (WMC)
PRODUCER: WOOLPERT LLP
PRODUCTION_SYSTEM: INTERGRAPH ISPM, ISIR
COMPRESSION: UNDEFINED
STANDARD_VERSION: 1996 12
METADATA_DATE: 2001 10 7
DATA_FILE_SIZE: 40632856
BYTE_COUNT: 5338
