FILENAME: O4810430.SWS.1163526.tif
QUADRANGLE_NAME: RESERVE SE
QUADRANT: SW
WEST_LONGITUDE: -104 22 30.00000
EAST_LONGITUDE: -104 18 45.00000
NORTH_LATITUDE: 48 33 45.00000
SOUTH_LATITUDE: 48 30 0.00000
PRODUCTION_DATE: 2001 10 7
RASTER_ORDER: LEFT_RIGHT/TOP_BOTTOM
BAND_ORGANIZATION: SINGLE FILE
BAND_CONTENT: BLACK&WHITE
BAND_CONTENT: UNDEFINED
BAND_CONTENT: UNDEFINED
BITS_PER_PIXEL: 8
SAMPLES_AND_LINES: 5322 7600
HORIZONTAL_DATUM: NAD83
HORIZONTAL_COORDINATE_SYSTEM: UTM
COORDINATE_ZONE: 13
HORIZONTAL_UNITS: meters
HORIZONTAL_RESOLUTION: 1.00000
SECONDARY_HORIZONTAL_DATUM: NAD27
XY_ORIGIN: 545770.00000 5379359.00000
SECONDARY_XY_ORIGIN: 545808.74300 5379137.49000
NATION: US
STATE: MT
NW_QUAD_CORNER_XY: 546113.00900 5379011.39000
NE_QUAD_CORNER_XY: 550724.28400 5379050.98700
SE_QUAD_CORNERY_XY: 550786.75000 5372103.78800
SW_QUAD_CORNER_XY: 546169.79600 5372064.18000
SECONDARY_NW_QUAD_XY: 546114.47700 5378792.41600
SECONDARY_NE_QUAD_XY: 550725.89800 5378832.01400
SECONDARY_SE_QUAD_XY: 550788.36500 5371884.82200
SECONDARY_SW_QUAD_XY: 546171.26400 5371845.21400
RMSE_XY: 3.03000
IMAGE_SOURCE: BLACK AND WHITE FILM
SOURCE_IMAGE_ID: NAPP 9095-106
SOURCE_IMAGE_DATE: 1996 7 9
SOURCE_DEM_DATE: 1998 0 0
AGENCY: WESTERN MAPPING CENTER (WMC)
PRODUCER: WOOLPERT LLP
PRODUCTION_SYSTEM: INTERGRAPH ISPM, ISIR
COMPRESSION: UNDEFINED
STANDARD_VERSION: 1996 12
METADATA_DATE: 2001 10 7
DATA_FILE_SIZE: 40452522
BYTE_COUNT: 5322
