FILENAME: O4810429.SWS.1163514.tif
QUADRANGLE_NAME: RESERVE
QUADRANT: SW
WEST_LONGITUDE: -104 30 0.00000
EAST_LONGITUDE: -104 26 15.00000
NORTH_LATITUDE: 48 33 45.00000
SOUTH_LATITUDE: 48 30 0.00000
PRODUCTION_DATE: 2001 10 7
RASTER_ORDER: LEFT_RIGHT/TOP_BOTTOM
BAND_ORGANIZATION: SINGLE FILE
BAND_CONTENT: BLACK&WHITE
BAND_CONTENT: UNDEFINED
BAND_CONTENT: UNDEFINED
BITS_PER_PIXEL: 8
SAMPLES_AND_LINES: 5311 7593
HORIZONTAL_DATUM: NAD83
HORIZONTAL_COORDINATE_SYSTEM: UTM
COORDINATE_ZONE: 13
HORIZONTAL_UNITS: meters
HORIZONTAL_RESOLUTION: 1.00000
SECONDARY_HORIZONTAL_DATUM: NAD27
XY_ORIGIN: 536547.00000 5379284.00000
SECONDARY_XY_ORIGIN: 536585.84400 5379062.41500
NATION: US
STATE: MT
NW_QUAD_CORNER_XY: 536890.43900 5378943.51000
NE_QUAD_CORNER_XY: 541501.72700 5378975.56500
SE_QUAD_CORNERY_XY: 541552.83500 5372028.34500
SW_QUAD_CORNER_XY: 536935.86900 5371996.28200
SECONDARY_NW_QUAD_XY: 536891.61400 5378724.53400
SECONDARY_NE_QUAD_XY: 541503.04800 5378756.58900
SECONDARY_SE_QUAD_XY: 541554.15600 5371809.37700
SECONDARY_SW_QUAD_XY: 536937.04300 5371777.31400
RMSE_XY: 2.09000
IMAGE_SOURCE: BLACK AND WHITE FILM
SOURCE_IMAGE_ID: NAPP 9083-025
SOURCE_IMAGE_DATE: 1996 6 12
SOURCE_DEM_DATE: 1998 0 0
AGENCY: WESTERN MAPPING CENTER (WMC)
PRODUCER: WOOLPERT LLP
PRODUCTION_SYSTEM: INTERGRAPH ISPM, ISIR
COMPRESSION: UNDEFINED
STANDARD_VERSION: 1996 12
METADATA_DATE: 2001 10 7
DATA_FILE_SIZE: 40331734
BYTE_COUNT: 5311
