FILENAME: O4810428.SES.1163104.tif
QUADRANGLE_NAME: ALKALI COULEE
QUADRANT: SE
WEST_LONGITUDE: -104 33 45.00000
EAST_LONGITUDE: -104 30 0.00000
NORTH_LATITUDE: 48 33 45.00000
SOUTH_LATITUDE: 48 30 0.00000
PRODUCTION_DATE: 2001 9 22
RASTER_ORDER: LEFT_RIGHT/TOP_BOTTOM
BAND_ORGANIZATION: SINGLE FILE
BAND_CONTENT: BLACK&WHITE
BAND_CONTENT: UNDEFINED
BAND_CONTENT: UNDEFINED
BITS_PER_PIXEL: 8
SAMPLES_AND_LINES: 5305 7590
HORIZONTAL_DATUM: NAD83
HORIZONTAL_COORDINATE_SYSTEM: UTM
COORDINATE_ZONE: 13
HORIZONTAL_UNITS: meters
HORIZONTAL_RESOLUTION: 1.00000
SECONDARY_HORIZONTAL_DATUM: NAD27
XY_ORIGIN: 531936.00000 5379252.00000
SECONDARY_XY_ORIGIN: 531974.87100 5379030.40700
NATION: US
STATE: MT
NW_QUAD_CORNER_XY: 532279.14600 5378915.22700
NE_QUAD_CORNER_XY: 536890.43900 5378943.51000
SE_QUAD_CORNERY_XY: 536935.86900 5371996.28200
SW_QUAD_CORNER_XY: 532318.89700 5371967.99200
SECONDARY_NW_QUAD_XY: 532280.17400 5378696.25000
SECONDARY_NE_QUAD_XY: 536891.61400 5378724.53400
SECONDARY_SE_QUAD_XY: 536937.04300 5371777.31400
SECONDARY_SW_QUAD_XY: 532319.92400 5371749.02200
RMSE_XY: 3.11000
IMAGE_SOURCE: BLACK AND WHITE FILM
SOURCE_IMAGE_ID: NAPP 9082-088
SOURCE_IMAGE_DATE: 1996 6 12
SOURCE_DEM_DATE: 1998 0 0
AGENCY: WESTERN MAPPING CENTER (WMC)
PRODUCER: WOOLPERT LLP
PRODUCTION_SYSTEM: INTERGRAPH ISPM, ISIR
COMPRESSION: UNDEFINED
STANDARD_VERSION: 1996 12
METADATA_DATE: 2001 9 22
DATA_FILE_SIZE: 40270255
BYTE_COUNT: 5305
