FILENAME: O4810427.NWS.1163091.tif
QUADRANGLE_NAME: FLAGSTAFF HILL
QUADRANT: NW
WEST_LONGITUDE: -104 45 0.00000
EAST_LONGITUDE: -104 41 15.00000
NORTH_LATITUDE: 48 37 30.00000
SOUTH_LATITUDE: 48 33 45.00000
PRODUCTION_DATE: 2001 9 22
RASTER_ORDER: LEFT_RIGHT/TOP_BOTTOM
BAND_ORGANIZATION: SINGLE FILE
BAND_CONTENT: BLACK&WHITE
BAND_CONTENT: UNDEFINED
BAND_CONTENT: UNDEFINED
BITS_PER_PIXEL: 8
SAMPLES_AND_LINES: 5283 7578
HORIZONTAL_DATUM: NAD83
HORIZONTAL_COORDINATE_SYSTEM: UTM
COORDINATE_ZONE: 13
HORIZONTAL_UNITS: meters
HORIZONTAL_RESOLUTION: 1.00000
SECONDARY_HORIZONTAL_DATUM: NAD27
XY_ORIGIN: 518079.00000 5386126.00000
SECONDARY_XY_ORIGIN: 518117.91400 5385904.30200
NATION: US
STATE: MT
NW_QUAD_CORNER_XY: 518422.50500 5385800.33300
NE_QUAD_CORNER_XY: 523028.12600 5385817.29800
SE_QUAD_CORNERY_XY: 523056.54600 5378869.97500
SW_QUAD_CORNER_XY: 518445.24100 5378853.00500
SECONDARY_NW_QUAD_XY: 518423.09200 5385581.34700
SECONDARY_NE_QUAD_XY: 523028.86000 5385598.31300
SECONDARY_SE_QUAD_XY: 523057.28000 5378650.99600
SECONDARY_SW_QUAD_XY: 518445.82800 5378634.02600
RMSE_XY: 2.23000
IMAGE_SOURCE: BLACK AND WHITE FILM
SOURCE_IMAGE_ID: NAPP 9080-145
SOURCE_IMAGE_DATE: 1996 6 12
SOURCE_DEM_DATE: 1998 0 0
AGENCY: WESTERN MAPPING CENTER (WMC)
PRODUCER: WOOLPERT LLP
PRODUCTION_SYSTEM: INTERGRAPH ISPM, ISIR
COMPRESSION: UNDEFINED
STANDARD_VERSION: 1996 12
METADATA_DATE: 2001 9 22
DATA_FILE_SIZE: 40039857
BYTE_COUNT: 5283
