FILENAME: O4810427.SES.1163092.tif
QUADRANGLE_NAME: FLAGSTAFF HILL
QUADRANT: SE
WEST_LONGITUDE: -104 41 15.00000
EAST_LONGITUDE: -104 37 30.00000
NORTH_LATITUDE: 48 33 45.00000
SOUTH_LATITUDE: 48 30 0.00000
PRODUCTION_DATE: 2001 9 22
RASTER_ORDER: LEFT_RIGHT/TOP_BOTTOM
BAND_ORGANIZATION: SINGLE FILE
BAND_CONTENT: BLACK&WHITE
BAND_CONTENT: UNDEFINED
BAND_CONTENT: UNDEFINED
BITS_PER_PIXEL: 8
SAMPLES_AND_LINES: 5294 7582
HORIZONTAL_DATUM: NAD83
HORIZONTAL_COORDINATE_SYSTEM: UTM
COORDINATE_ZONE: 13
HORIZONTAL_UNITS: meters
HORIZONTAL_RESOLUTION: 1.00000
SECONDARY_HORIZONTAL_DATUM: NAD27
XY_ORIGIN: 522713.00000 5379199.00000
SECONDARY_XY_ORIGIN: 522751.92500 5378977.39900
NATION: US
STATE: MT
NW_QUAD_CORNER_XY: 523056.54600 5378869.97500
NE_QUAD_CORNER_XY: 527667.84800 5378890.71600
SE_QUAD_CORNERY_XY: 527701.92000 5371943.47300
SW_QUAD_CORNER_XY: 523084.93900 5371922.72700
SECONDARY_NW_QUAD_XY: 523057.28000 5378650.99600
SECONDARY_NE_QUAD_XY: 527668.72900 5378671.73700
SECONDARY_SE_QUAD_XY: 527702.80100 5371724.50300
SECONDARY_SW_QUAD_XY: 523085.67300 5371703.75600
RMSE_XY: 4.56000
IMAGE_SOURCE: BLACK AND WHITE FILM
SOURCE_IMAGE_ID: NAPP 9080-114
SOURCE_IMAGE_DATE: 1996 6 12
SOURCE_DEM_DATE: 1998 0 0
AGENCY: WESTERN MAPPING CENTER (WMC)
PRODUCER: WOOLPERT LLP
PRODUCTION_SYSTEM: INTERGRAPH ISPM, ISIR
COMPRESSION: UNDEFINED
STANDARD_VERSION: 1996 12
METADATA_DATE: 2001 9 22
DATA_FILE_SIZE: 40144402
BYTE_COUNT: 5294
