FILENAME: O4810424.NWS.1163509.tif
QUADRANGLE_NAME: DOMINEK LAKE
QUADRANT: NW
WEST_LONGITUDE: -104 7 30.00000
EAST_LONGITUDE: -104 3 45.00000
NORTH_LATITUDE: 48 45 0.00000
SOUTH_LATITUDE: 48 41 15.00000
PRODUCTION_DATE: 2001 10 7
RASTER_ORDER: LEFT_RIGHT/TOP_BOTTOM
BAND_ORGANIZATION: SINGLE FILE
BAND_CONTENT: BLACK&WHITE
BAND_CONTENT: UNDEFINED
BAND_CONTENT: UNDEFINED
BITS_PER_PIXEL: 8
SAMPLES_AND_LINES: 5327 7616
HORIZONTAL_DATUM: NAD83
HORIZONTAL_COORDINATE_SYSTEM: UTM
COORDINATE_ZONE: 13
HORIZONTAL_UNITS: meters
HORIZONTAL_RESOLUTION: 1.00000
SECONDARY_HORIZONTAL_DATUM: NAD27
XY_ORIGIN: 563977.00000 5400397.00000
SECONDARY_XY_ORIGIN: 564015.39500 5400175.35200
NATION: US
STATE: MT
NW_QUAD_CORNER_XY: 564319.08300 5400034.33700
NE_QUAD_CORNER_XY: 568913.25200 5400088.97400
SE_QUAD_CORNERY_XY: 568998.68500 5393141.60600
SW_QUAD_CORNER_XY: 564398.82000 5393086.95300
SECONDARY_NW_QUAD_XY: 564321.13900 5399815.35000
SECONDARY_NE_QUAD_XY: 568915.45400 5399869.99000
SECONDARY_SE_QUAD_XY: 569000.88700 5392922.62700
SECONDARY_SW_QUAD_XY: 564400.87500 5392867.97100
RMSE_XY: 2.89000
IMAGE_SOURCE: BLACK AND WHITE FILM
SOURCE_IMAGE_ID: NAPP 8631-012
SOURCE_IMAGE_DATE: 1995 7 28
SOURCE_DEM_DATE: 1998 0 0
AGENCY: WESTERN MAPPING CENTER (WMC)
PRODUCER: WOOLPERT LLP
PRODUCTION_SYSTEM: INTERGRAPH ISPM, ISIR
COMPRESSION: UNDEFINED
STANDARD_VERSION: 1996 12
METADATA_DATE: 2001 10 7
DATA_FILE_SIZE: 40575759
BYTE_COUNT: 5327
