FILENAME: O4810424.SWS.1163510.tif
QUADRANGLE_NAME: DOMINEK LAKE
QUADRANT: SW
WEST_LONGITUDE: -104 7 30.00000
EAST_LONGITUDE: -104 3 45.00000
NORTH_LATITUDE: 48 41 15.00000
SOUTH_LATITUDE: 48 37 30.00000
PRODUCTION_DATE: 2001 10 7
RASTER_ORDER: LEFT_RIGHT/TOP_BOTTOM
BAND_ORGANIZATION: SINGLE FILE
BAND_CONTENT: BLACK&WHITE
BAND_CONTENT: UNDEFINED
BAND_CONTENT: UNDEFINED
BITS_PER_PIXEL: 8
SAMPLES_AND_LINES: 5333 7616
HORIZONTAL_DATUM: NAD83
HORIZONTAL_COORDINATE_SYSTEM: UTM
COORDINATE_ZONE: 13
HORIZONTAL_UNITS: meters
HORIZONTAL_RESOLUTION: 1.00000
SECONDARY_HORIZONTAL_DATUM: NAD27
XY_ORIGIN: 564057.00000 5393450.00000
SECONDARY_XY_ORIGIN: 564095.45000 5393228.42100
NATION: US
STATE: MT
NW_QUAD_CORNER_XY: 564398.82000 5393086.95300
NE_QUAD_CORNER_XY: 568998.68500 5393141.60600
SE_QUAD_CORNERY_XY: 569084.03500 5386194.31100
SW_QUAD_CORNER_XY: 564478.47900 5386139.64300
SECONDARY_NW_QUAD_XY: 564400.87500 5392867.97100
SECONDARY_NE_QUAD_XY: 569000.88700 5392922.62700
SECONDARY_SE_QUAD_XY: 569086.23700 5385975.33800
SECONDARY_SW_QUAD_XY: 564480.53500 5385920.66800
RMSE_XY: 3.04000
IMAGE_SOURCE: BLACK AND WHITE FILM
SOURCE_IMAGE_ID: NAPP 8631-014
SOURCE_IMAGE_DATE: 1995 7 28
SOURCE_DEM_DATE: 1998 0 0
AGENCY: WESTERN MAPPING CENTER (WMC)
PRODUCER: WOOLPERT LLP
PRODUCTION_SYSTEM: INTERGRAPH ISPM, ISIR
COMPRESSION: UNDEFINED
STANDARD_VERSION: 1996 12
METADATA_DATE: 2001 10 7
DATA_FILE_SIZE: 40621461
BYTE_COUNT: 5333
