FILENAME: O4810423.NES.1163501.tif
QUADRANGLE_NAME: COALRIDGE
QUADRANT: NE
WEST_LONGITUDE: -104 11 15.00000
EAST_LONGITUDE: -104 7 30.00000
NORTH_LATITUDE: 48 45 0.00000
SOUTH_LATITUDE: 48 41 15.00000
PRODUCTION_DATE: 2001 10 7
RASTER_ORDER: LEFT_RIGHT/TOP_BOTTOM
BAND_ORGANIZATION: SINGLE FILE
BAND_CONTENT: BLACK&WHITE
BAND_CONTENT: UNDEFINED
BAND_CONTENT: UNDEFINED
BITS_PER_PIXEL: 8
SAMPLES_AND_LINES: 5321 7612
HORIZONTAL_DATUM: NAD83
HORIZONTAL_COORDINATE_SYSTEM: UTM
COORDINATE_ZONE: 13
HORIZONTAL_UNITS: meters
HORIZONTAL_RESOLUTION: 1.00000
SECONDARY_HORIZONTAL_DATUM: NAD27
XY_ORIGIN: 559383.00000 5400343.00000
SECONDARY_XY_ORIGIN: 559421.43200 5400121.36300
NATION: US
STATE: MT
NW_QUAD_CORNER_XY: 559724.90400 5399983.46700
NE_QUAD_CORNER_XY: 564319.08300 5400034.33700
SE_QUAD_CORNERY_XY: 564398.82000 5393086.95300
SW_QUAD_CORNER_XY: 559798.94500 5393036.06900
SECONDARY_NW_QUAD_XY: 559726.81300 5399764.47900
SECONDARY_NE_QUAD_XY: 564321.13900 5399815.35000
SECONDARY_SE_QUAD_XY: 564400.87500 5392867.97100
SECONDARY_SW_QUAD_XY: 559800.85300 5392817.08600
RMSE_XY: 3.85000
IMAGE_SOURCE: BLACK AND WHITE FILM
SOURCE_IMAGE_ID: NAPP 10766-151
SOURCE_IMAGE_DATE: 1998 7 10
SOURCE_DEM_DATE: 1998 0 0
AGENCY: WESTERN MAPPING CENTER (WMC)
PRODUCER: WOOLPERT LLP
PRODUCTION_SYSTEM: INTERGRAPH ISPM, ISIR
COMPRESSION: UNDEFINED
STANDARD_VERSION: 1996 12
METADATA_DATE: 2001 10 7
DATA_FILE_SIZE: 40508773
BYTE_COUNT: 5321
