FILENAME: O4810423.SES.1163503.tif
QUADRANGLE_NAME: COALRIDGE
QUADRANT: SE
WEST_LONGITUDE: -104 11 15.00000
EAST_LONGITUDE: -104 7 30.00000
NORTH_LATITUDE: 48 41 15.00000
SOUTH_LATITUDE: 48 37 30.00000
PRODUCTION_DATE: 2001 10 7
RASTER_ORDER: LEFT_RIGHT/TOP_BOTTOM
BAND_ORGANIZATION: SINGLE FILE
BAND_CONTENT: BLACK&WHITE
BAND_CONTENT: UNDEFINED
BAND_CONTENT: UNDEFINED
BITS_PER_PIXEL: 8
SAMPLES_AND_LINES: 5327 7612
HORIZONTAL_DATUM: NAD83
HORIZONTAL_COORDINATE_SYSTEM: UTM
COORDINATE_ZONE: 13
HORIZONTAL_UNITS: meters
HORIZONTAL_RESOLUTION: 1.00000
SECONDARY_HORIZONTAL_DATUM: NAD27
XY_ORIGIN: 559457.00000 5393395.00000
SECONDARY_XY_ORIGIN: 559495.48800 5393173.42700
NATION: US
STATE: MT
NW_QUAD_CORNER_XY: 559798.94500 5393036.06900
NE_QUAD_CORNER_XY: 564398.82000 5393086.95300
SE_QUAD_CORNERY_XY: 564478.47900 5386139.64300
SW_QUAD_CORNER_XY: 559872.91400 5386088.74500
SECONDARY_NW_QUAD_XY: 559800.85300 5392817.08600
SECONDARY_NE_QUAD_XY: 564400.87500 5392867.97100
SECONDARY_SE_QUAD_XY: 564480.53500 5385920.66800
SECONDARY_SW_QUAD_XY: 559874.82200 5385869.76800
RMSE_XY: 3.12000
IMAGE_SOURCE: BLACK AND WHITE FILM
SOURCE_IMAGE_ID: NAPP 10766-149
SOURCE_IMAGE_DATE: 1998 7 10
SOURCE_DEM_DATE: 1998 0 0
AGENCY: WESTERN MAPPING CENTER (WMC)
PRODUCER: WOOLPERT LLP
PRODUCTION_SYSTEM: INTERGRAPH ISPM, ISIR
COMPRESSION: UNDEFINED
STANDARD_VERSION: 1996 12
METADATA_DATE: 2001 10 7
DATA_FILE_SIZE: 40554451
BYTE_COUNT: 5327
