FILENAME: O4810421.NES.1163477.tif
QUADRANGLE_NAME: ANTELOPE
QUADRANT: NE
WEST_LONGITUDE: -104 26 15.00000
EAST_LONGITUDE: -104 22 30.00000
NORTH_LATITUDE: 48 45 0.00000
SOUTH_LATITUDE: 48 41 15.00000
PRODUCTION_DATE: 2001 10 7
RASTER_ORDER: LEFT_RIGHT/TOP_BOTTOM
BAND_ORGANIZATION: SINGLE FILE
BAND_CONTENT: BLACK&WHITE
BAND_CONTENT: UNDEFINED
BAND_CONTENT: UNDEFINED
BITS_PER_PIXEL: 8
SAMPLES_AND_LINES: 5300 7597
HORIZONTAL_DATUM: NAD83
HORIZONTAL_COORDINATE_SYSTEM: UTM
COORDINATE_ZONE: 13
HORIZONTAL_UNITS: meters
HORIZONTAL_RESOLUTION: 1.00000
SECONDARY_HORIZONTAL_DATUM: NAD27
XY_ORIGIN: 541005.00000 5400162.00000
SECONDARY_XY_ORIGIN: 541043.66000 5399940.18200
NATION: US
STATE: MT
NW_QUAD_CORNER_XY: 541348.10400 5399817.67400
NE_QUAD_CORNER_XY: 545942.31500 5399853.47000
SE_QUAD_CORNERY_XY: 545999.26800 5392906.03500
SW_QUAD_CORNER_XY: 541399.36100 5392870.22900
SECONDARY_NW_QUAD_XY: 541349.42500 5399598.68100
SECONDARY_NE_QUAD_XY: 545943.78300 5399634.47800
SECONDARY_SE_QUAD_XY: 546000.73600 5392687.04800
SECONDARY_SW_QUAD_XY: 541400.68300 5392651.24100
RMSE_XY: 2.97000
IMAGE_SOURCE: BLACK AND WHITE FILM
SOURCE_IMAGE_ID: NAPP 9103-072
SOURCE_IMAGE_DATE: 1996 7 15
SOURCE_DEM_DATE: 1998 0 0
AGENCY: WESTERN MAPPING CENTER (WMC)
PRODUCER: WOOLPERT LLP
PRODUCTION_SYSTEM: INTERGRAPH ISPM, ISIR
COMPRESSION: UNDEFINED
STANDARD_VERSION: 1996 12
METADATA_DATE: 2001 10 7
DATA_FILE_SIZE: 40269400
BYTE_COUNT: 5300
