FILENAME: O4810420.NES.1163062.tif
QUADRANGLE_NAME: SHIPPE CANYON
QUADRANT: NE
WEST_LONGITUDE: -104 33 45.00000
EAST_LONGITUDE: -104 30 0.00000
NORTH_LATITUDE: 48 45 0.00000
SOUTH_LATITUDE: 48 41 15.00000
PRODUCTION_DATE: 2001 9 27
RASTER_ORDER: LEFT_RIGHT/TOP_BOTTOM
BAND_ORGANIZATION: SINGLE FILE
BAND_CONTENT: BLACK&WHITE
BAND_CONTENT: UNDEFINED
BAND_CONTENT: UNDEFINED
BITS_PER_PIXEL: 8
SAMPLES_AND_LINES: 5289 7590
HORIZONTAL_DATUM: NAD83
HORIZONTAL_COORDINATE_SYSTEM: UTM
COORDINATE_ZONE: 13
HORIZONTAL_UNITS: meters
HORIZONTAL_RESOLUTION: 1.00000
SECONDARY_HORIZONTAL_DATUM: NAD27
XY_ORIGIN: 531816.00000 5400094.00000
SECONDARY_XY_ORIGIN: 531854.75100 5399872.12400
NATION: US
STATE: MT
NW_QUAD_CORNER_XY: 532159.66300 5399757.38700
NE_QUAD_CORNER_XY: 536753.88600 5399785.64600
SE_QUAD_CORNERY_XY: 536799.44800 5392838.19200
SW_QUAD_CORNER_XY: 532199.52900 5392809.92500
SECONDARY_NW_QUAD_XY: 532160.69000 5399538.39200
SECONDARY_NE_QUAD_XY: 536755.06100 5399566.65200
SECONDARY_SE_QUAD_XY: 536800.62300 5392619.20300
SECONDARY_SW_QUAD_XY: 532200.55700 5392590.93500
RMSE_XY: 5.67000
IMAGE_SOURCE: BLACK AND WHITE FILM
SOURCE_IMAGE_ID: NAPP 9082-094
SOURCE_IMAGE_DATE: 1996 6 12
SOURCE_DEM_DATE: 1998 0 0
AGENCY: WESTERN MAPPING CENTER (WMC)
PRODUCER: WOOLPERT LLP
PRODUCTION_SYSTEM: INTERGRAPH ISPM, ISIR
COMPRESSION: UNDEFINED
STANDARD_VERSION: 1996 12
METADATA_DATE: 2001 9 27
DATA_FILE_SIZE: 40148799
BYTE_COUNT: 5289
