FILENAME: O4810420.NWS.1163063.tif
QUADRANGLE_NAME: SHIPPE CANYON
QUADRANT: NW
WEST_LONGITUDE: -104 37 30.00000
EAST_LONGITUDE: -104 33 45.00000
NORTH_LATITUDE: 48 45 0.00000
SOUTH_LATITUDE: 48 41 15.00000
PRODUCTION_DATE: 2001 9 27
RASTER_ORDER: LEFT_RIGHT/TOP_BOTTOM
BAND_ORGANIZATION: SINGLE FILE
BAND_CONTENT: BLACK&WHITE
BAND_CONTENT: UNDEFINED
BAND_CONTENT: UNDEFINED
BITS_PER_PIXEL: 8
SAMPLES_AND_LINES: 5283 7586
HORIZONTAL_DATUM: NAD83
HORIZONTAL_COORDINATE_SYSTEM: UTM
COORDINATE_ZONE: 13
HORIZONTAL_UNITS: meters
HORIZONTAL_RESOLUTION: 1.00000
SECONDARY_HORIZONTAL_DATUM: NAD27
XY_ORIGIN: 527222.00000 5400066.00000
SECONDARY_XY_ORIGIN: 527260.78100 5399844.12300
NATION: US
STATE: MT
NW_QUAD_CORNER_XY: 527565.43400 5399732.89500
NE_QUAD_CORNER_XY: 532159.66300 5399757.38700
SE_QUAD_CORNERY_XY: 532199.52900 5392809.92500
SW_QUAD_CORNER_XY: 527599.60600 5392785.42600
SECONDARY_NW_QUAD_XY: 527566.31500 5399513.89900
SECONDARY_NE_QUAD_XY: 532160.69000 5399538.39200
SECONDARY_SE_QUAD_XY: 532200.55700 5392590.93500
SECONDARY_SW_QUAD_XY: 527600.48600 5392566.43600
RMSE_XY: 4.86000
IMAGE_SOURCE: BLACK AND WHITE FILM
SOURCE_IMAGE_ID: NAPP 9082-015
SOURCE_IMAGE_DATE: 1996 6 12
SOURCE_DEM_DATE: 1998 0 0
AGENCY: WESTERN MAPPING CENTER (WMC)
PRODUCER: WOOLPERT LLP
PRODUCTION_SYSTEM: INTERGRAPH ISPM, ISIR
COMPRESSION: UNDEFINED
STANDARD_VERSION: 1996 12
METADATA_DATE: 2001 9 27
DATA_FILE_SIZE: 40082121
BYTE_COUNT: 5283
