FILENAME: O4810416.NWS.1163507.tif
QUADRANGLE_NAME: WESTBY SOUTH
QUADRANT: NW
WEST_LONGITUDE: -104 7 30.00000
EAST_LONGITUDE: -104 3 45.00000
NORTH_LATITUDE: 48 52 30.00000
SOUTH_LATITUDE: 48 48 45.00000
PRODUCTION_DATE: 2001 10 7
RASTER_ORDER: LEFT_RIGHT/TOP_BOTTOM
BAND_ORGANIZATION: SINGLE FILE
BAND_CONTENT: BLACK&WHITE
BAND_CONTENT: UNDEFINED
BAND_CONTENT: UNDEFINED
BITS_PER_PIXEL: 8
SAMPLES_AND_LINES: 5315 7616
HORIZONTAL_DATUM: NAD83
HORIZONTAL_COORDINATE_SYSTEM: UTM
COORDINATE_ZONE: 13
HORIZONTAL_UNITS: meters
HORIZONTAL_RESOLUTION: 1.00000
SECONDARY_HORIZONTAL_DATUM: NAD27
XY_ORIGIN: 563818.00000 5414292.00000
SECONDARY_XY_ORIGIN: 563856.29400 5414070.41700
NATION: US
STATE: MT
NW_QUAD_CORNER_XY: 564159.37800 5413929.32600
NE_QUAD_CORNER_XY: 568742.13800 5413983.93300
SE_QUAD_CORNERY_XY: 568827.73700 5407036.41700
SW_QUAD_CORNER_XY: 564239.26900 5406981.79400
SECONDARY_NW_QUAD_XY: 564161.43400 5413710.33200
SECONDARY_NE_QUAD_XY: 568744.34100 5413764.94000
SECONDARY_SE_QUAD_XY: 568829.93900 5406817.42800
SECONDARY_SW_QUAD_XY: 564241.32500 5406762.80400
RMSE_XY: 3.26000
IMAGE_SOURCE: BLACK AND WHITE FILM
SOURCE_IMAGE_ID: NAPP 8631-008
SOURCE_IMAGE_DATE: 1995 7 28
SOURCE_DEM_DATE: 1998 0 0
AGENCY: WESTERN MAPPING CENTER (WMC)
PRODUCER: WOOLPERT LLP
PRODUCTION_SYSTEM: INTERGRAPH ISPM, ISIR
COMPRESSION: UNDEFINED
STANDARD_VERSION: 1996 12
METADATA_DATE: 2001 10 7
DATA_FILE_SIZE: 40484355
BYTE_COUNT: 5315
