FILENAME: O4810416.SWS.1163508.tif
QUADRANGLE_NAME: WESTBY SOUTH
QUADRANT: SW
WEST_LONGITUDE: -104 7 30.00000
EAST_LONGITUDE: -104 3 45.00000
NORTH_LATITUDE: 48 48 45.00000
SOUTH_LATITUDE: 48 45 0.00000
PRODUCTION_DATE: 2001 10 7
RASTER_ORDER: LEFT_RIGHT/TOP_BOTTOM
BAND_ORGANIZATION: SINGLE FILE
BAND_CONTENT: BLACK&WHITE
BAND_CONTENT: UNDEFINED
BAND_CONTENT: UNDEFINED
BITS_PER_PIXEL: 8
SAMPLES_AND_LINES: 5322 7616
HORIZONTAL_DATUM: NAD83
HORIZONTAL_COORDINATE_SYSTEM: UTM
COORDINATE_ZONE: 13
HORIZONTAL_UNITS: meters
HORIZONTAL_RESOLUTION: 1.00000
SECONDARY_HORIZONTAL_DATUM: NAD27
XY_ORIGIN: 563897.00000 5407345.00000
SECONDARY_XY_ORIGIN: 563935.34400 5407123.38400
NATION: US
STATE: MT
NW_QUAD_CORNER_XY: 564239.26900 5406981.79400
NE_QUAD_CORNER_XY: 568827.73700 5407036.41700
SE_QUAD_CORNERY_XY: 568913.25200 5400088.97400
SW_QUAD_CORNER_XY: 564319.08300 5400034.33700
SECONDARY_NW_QUAD_XY: 564241.32500 5406762.80400
SECONDARY_NE_QUAD_XY: 568829.93900 5406817.42800
SECONDARY_SE_QUAD_XY: 568915.45400 5399869.99000
SECONDARY_SW_QUAD_XY: 564321.13900 5399815.35000
RMSE_XY: 3.53000
IMAGE_SOURCE: BLACK AND WHITE FILM
SOURCE_IMAGE_ID: NAPP 8631-010
SOURCE_IMAGE_DATE: 1995 7 28
SOURCE_DEM_DATE: 1998 0 0
AGENCY: WESTERN MAPPING CENTER (WMC)
PRODUCER: WOOLPERT LLP
PRODUCTION_SYSTEM: INTERGRAPH ISPM, ISIR
COMPRESSION: UNDEFINED
STANDARD_VERSION: 1996 12
METADATA_DATE: 2001 10 7
DATA_FILE_SIZE: 40537674
BYTE_COUNT: 5322
