FILENAME: O4810415.NES.1163497.tif
QUADRANGLE_NAME: TADPOLE LAKE
QUADRANT: NE
WEST_LONGITUDE: -104 11 15.00000
EAST_LONGITUDE: -104 7 30.00000
NORTH_LATITUDE: 48 52 30.00000
SOUTH_LATITUDE: 48 48 45.00000
PRODUCTION_DATE: 2001 10 7
RASTER_ORDER: LEFT_RIGHT/TOP_BOTTOM
BAND_ORGANIZATION: SINGLE FILE
BAND_CONTENT: BLACK&WHITE
BAND_CONTENT: UNDEFINED
BAND_CONTENT: UNDEFINED
BITS_PER_PIXEL: 8
SAMPLES_AND_LINES: 5310 7612
HORIZONTAL_DATUM: NAD83
HORIZONTAL_COORDINATE_SYSTEM: UTM
COORDINATE_ZONE: 13
HORIZONTAL_UNITS: meters
HORIZONTAL_RESOLUTION: 1.00000
SECONDARY_HORIZONTAL_DATUM: NAD27
XY_ORIGIN: 559235.00000 5414237.00000
SECONDARY_XY_ORIGIN: 559273.32900 5414015.42700
NATION: US
STATE: MT
NW_QUAD_CORNER_XY: 559576.60800 5413878.48600
NE_QUAD_CORNER_XY: 564159.37800 5413929.32600
SE_QUAD_CORNERY_XY: 564239.26900 5406981.79400
SW_QUAD_CORNER_XY: 559650.79200 5406930.94000
SECONDARY_NW_QUAD_XY: 559578.51700 5413659.49000
SECONDARY_NE_QUAD_XY: 564161.43400 5413710.33200
SECONDARY_SE_QUAD_XY: 564241.32500 5406762.80400
SECONDARY_SW_QUAD_XY: 559652.70100 5406711.94700
RMSE_XY: 2.45000
IMAGE_SOURCE: BLACK AND WHITE FILM
SOURCE_IMAGE_ID: NAPP 9123-161
SOURCE_IMAGE_DATE: 1997 8 3
SOURCE_DEM_DATE: 1998 0 0
AGENCY: WESTERN MAPPING CENTER (WMC)
PRODUCER: WOOLPERT LLP
PRODUCTION_SYSTEM: INTERGRAPH ISPM, ISIR
COMPRESSION: UNDEFINED
STANDARD_VERSION: 1996 12
METADATA_DATE: 2001 10 7
DATA_FILE_SIZE: 40425030
BYTE_COUNT: 5310
