FILENAME: O4810415.NWS.1163498.tif
QUADRANGLE_NAME: TADPOLE LAKE
QUADRANT: NW
WEST_LONGITUDE: -104 15 0.00000
EAST_LONGITUDE: -104 11 15.00000
NORTH_LATITUDE: 48 52 30.00000
SOUTH_LATITUDE: 48 48 45.00000
PRODUCTION_DATE: 2001 10 7
RASTER_ORDER: LEFT_RIGHT/TOP_BOTTOM
BAND_ORGANIZATION: SINGLE FILE
BAND_CONTENT: BLACK&WHITE
BAND_CONTENT: UNDEFINED
BAND_CONTENT: UNDEFINED
BITS_PER_PIXEL: 8
SAMPLES_AND_LINES: 5304 7609
HORIZONTAL_DATUM: NAD83
HORIZONTAL_COORDINATE_SYSTEM: UTM
COORDINATE_ZONE: 13
HORIZONTAL_UNITS: meters
HORIZONTAL_RESOLUTION: 1.00000
SECONDARY_HORIZONTAL_DATUM: NAD27
XY_ORIGIN: 554652.00000 5414187.00000
SECONDARY_XY_ORIGIN: 554690.36600 5413965.43000
NATION: US
STATE: MT
NW_QUAD_CORNER_XY: 554993.82900 5413831.41300
NE_QUAD_CORNER_XY: 559576.60800 5413878.48600
SE_QUAD_CORNERY_XY: 559650.79200 5406930.94000
SW_QUAD_CORNER_XY: 555062.30600 5406883.85200
SECONDARY_NW_QUAD_XY: 554995.59100 5413612.41500
SECONDARY_NE_QUAD_XY: 559578.51700 5413659.49000
SECONDARY_SE_QUAD_XY: 559652.70100 5406711.94700
SECONDARY_SW_QUAD_XY: 555064.06700 5406664.85800
RMSE_XY: 3.21000
IMAGE_SOURCE: BLACK AND WHITE FILM
SOURCE_IMAGE_ID: NAPP 9123-172
SOURCE_IMAGE_DATE: 1997 8 3
SOURCE_DEM_DATE: 1998 0 0
AGENCY: WESTERN MAPPING CENTER (WMC)
PRODUCER: WOOLPERT LLP
PRODUCTION_SYSTEM: INTERGRAPH ISPM, ISIR
COMPRESSION: UNDEFINED
STANDARD_VERSION: 1996 12
METADATA_DATE: 2001 10 7
DATA_FILE_SIZE: 40363440
BYTE_COUNT: 5304
