FILENAME: O4810413.NWS.1163474.tif
QUADRANGLE_NAME: DOOLEY SW
QUADRANT: NW
WEST_LONGITUDE: -104 30 0.00000
EAST_LONGITUDE: -104 26 15.00000
NORTH_LATITUDE: 48 52 30.00000
SOUTH_LATITUDE: 48 48 45.00000
PRODUCTION_DATE: 2001 10 7
RASTER_ORDER: LEFT_RIGHT/TOP_BOTTOM
BAND_ORGANIZATION: SINGLE FILE
BAND_CONTENT: BLACK&WHITE
BAND_CONTENT: UNDEFINED
BAND_CONTENT: UNDEFINED
BITS_PER_PIXEL: 8
SAMPLES_AND_LINES: 5282 7593
HORIZONTAL_DATUM: NAD83
HORIZONTAL_COORDINATE_SYSTEM: UTM
COORDINATE_ZONE: 13
HORIZONTAL_UNITS: meters
HORIZONTAL_RESOLUTION: 1.00000
SECONDARY_HORIZONTAL_DATUM: NAD27
XY_ORIGIN: 536320.00000 5414021.00000
SECONDARY_XY_ORIGIN: 536358.67400 5413799.08200
NATION: US
STATE: MT
NW_QUAD_CORNER_XY: 536662.63000 5413680.77900
NE_QUAD_CORNER_XY: 541245.44000 5413712.78900
SE_QUAD_CORNERY_XY: 541296.79700 5406765.19400
SW_QUAD_CORNER_XY: 536708.28000 5406733.17500
SECONDARY_NW_QUAD_XY: 536663.80500 5413461.77700
SECONDARY_NE_QUAD_XY: 541246.76200 5413493.78800
SECONDARY_SE_QUAD_XY: 541298.11800 5406546.19600
SECONDARY_SW_QUAD_XY: 536709.45500 5406514.17700
RMSE_XY: 3.23000
IMAGE_SOURCE: BLACK AND WHITE FILM
SOURCE_IMAGE_ID: NAPP 9083-015
SOURCE_IMAGE_DATE: 1996 6 12
SOURCE_DEM_DATE: 1998 0 0
AGENCY: WESTERN MAPPING CENTER (WMC)
PRODUCER: WOOLPERT LLP
PRODUCTION_SYSTEM: INTERGRAPH ISPM, ISIR
COMPRESSION: UNDEFINED
STANDARD_VERSION: 1996 12
METADATA_DATE: 2001 10 7
DATA_FILE_SIZE: 40111508
BYTE_COUNT: 5282
