FILENAME: O4810413.SES.1163475.tif
QUADRANGLE_NAME: DOOLEY SW
QUADRANT: SE
WEST_LONGITUDE: -104 26 15.00000
EAST_LONGITUDE: -104 22 30.00000
NORTH_LATITUDE: 48 48 45.00000
SOUTH_LATITUDE: 48 45 0.00000
PRODUCTION_DATE: 2001 10 7
RASTER_ORDER: LEFT_RIGHT/TOP_BOTTOM
BAND_ORGANIZATION: SINGLE FILE
BAND_CONTENT: BLACK&WHITE
BAND_CONTENT: UNDEFINED
BAND_CONTENT: UNDEFINED
BITS_PER_PIXEL: 8
SAMPLES_AND_LINES: 5294 7597
HORIZONTAL_DATUM: NAD83
HORIZONTAL_COORDINATE_SYSTEM: UTM
COORDINATE_ZONE: 13
HORIZONTAL_UNITS: meters
HORIZONTAL_RESOLUTION: 1.00000
SECONDARY_HORIZONTAL_DATUM: NAD27
XY_ORIGIN: 540954.00000 5407109.00000
SECONDARY_XY_ORIGIN: 540992.63000 5406887.17400
NATION: US
STATE: MT
NW_QUAD_CORNER_XY: 541296.79700 5406765.19400
NE_QUAD_CORNER_XY: 545885.30700 5406800.97900
SE_QUAD_CORNERY_XY: 545942.31500 5399853.47000
SW_QUAD_CORNER_XY: 541348.10400 5399817.67400
SECONDARY_NW_QUAD_XY: 541298.11800 5406546.19600
SECONDARY_NE_QUAD_XY: 545886.77500 5406581.98300
SECONDARY_SE_QUAD_XY: 545943.78300 5399634.47800
SECONDARY_SW_QUAD_XY: 541349.42500 5399598.68100
RMSE_XY: 3.47000
IMAGE_SOURCE: BLACK AND WHITE FILM
SOURCE_IMAGE_ID: NAPP 9108-112
SOURCE_IMAGE_DATE: 1996 8 8
SOURCE_DEM_DATE: 1998 0 0
AGENCY: WESTERN MAPPING CENTER (WMC)
PRODUCER: WOOLPERT LLP
PRODUCTION_SYSTEM: INTERGRAPH ISPM, ISIR
COMPRESSION: UNDEFINED
STANDARD_VERSION: 1996 12
METADATA_DATE: 2001 10 7
DATA_FILE_SIZE: 40223812
BYTE_COUNT: 5294
