FILENAME: O4810412.SES.1163060.tif
QUADRANGLE_NAME: PLENTYWOOD
QUADRANT: SE
WEST_LONGITUDE: -104 33 45.00000
EAST_LONGITUDE: -104 30 0.00000
NORTH_LATITUDE: 48 48 45.00000
SOUTH_LATITUDE: 48 45 0.00000
PRODUCTION_DATE: 2001 9 22
RASTER_ORDER: LEFT_RIGHT/TOP_BOTTOM
BAND_ORGANIZATION: SINGLE FILE
BAND_CONTENT: BLACK&WHITE
BAND_CONTENT: UNDEFINED
BAND_CONTENT: UNDEFINED
BITS_PER_PIXEL: 8
SAMPLES_AND_LINES: 5282 7590
HORIZONTAL_DATUM: NAD83
HORIZONTAL_COORDINATE_SYSTEM: UTM
COORDINATE_ZONE: 13
HORIZONTAL_UNITS: meters
HORIZONTAL_RESOLUTION: 1.00000
SECONDARY_HORIZONTAL_DATUM: NAD27
XY_ORIGIN: 531777.00000 5407042.00000
SECONDARY_XY_ORIGIN: 531815.73200 5406820.09400
NATION: US
STATE: MT
NW_QUAD_CORNER_XY: 532119.75800 5406704.92400
NE_QUAD_CORNER_XY: 536708.28000 5406733.17500
SE_QUAD_CORNERY_XY: 536753.88600 5399785.64600
SW_QUAD_CORNER_XY: 532159.66300 5399757.38700
SECONDARY_NW_QUAD_XY: 532120.78500 5406485.92400
SECONDARY_NE_QUAD_XY: 536709.45500 5406514.17700
SECONDARY_SE_QUAD_XY: 536755.06100 5399566.65200
SECONDARY_SW_QUAD_XY: 532160.69000 5399538.39200
RMSE_XY: 4.97000
IMAGE_SOURCE: BLACK AND WHITE FILM
SOURCE_IMAGE_ID: NAPP 9082-096
SOURCE_IMAGE_DATE: 1996 6 12
SOURCE_DEM_DATE: 1998 0 0
AGENCY: WESTERN MAPPING CENTER (WMC)
PRODUCER: WOOLPERT LLP
PRODUCTION_SYSTEM: INTERGRAPH ISPM, ISIR
COMPRESSION: UNDEFINED
STANDARD_VERSION: 1996 12
METADATA_DATE: 2001 9 23
DATA_FILE_SIZE: 40095662
BYTE_COUNT: 5282
