FILENAME: O4810411.NES.1163046.tif
QUADRANGLE_NAME: PLENTYWOOD SW
QUADRANT: NE
WEST_LONGITUDE: -104 41 15.00000
EAST_LONGITUDE: -104 37 30.00000
NORTH_LATITUDE: 48 52 30.00000
SOUTH_LATITUDE: 48 48 45.00000
PRODUCTION_DATE: 2001 9 22
RASTER_ORDER: LEFT_RIGHT/TOP_BOTTOM
BAND_ORGANIZATION: SINGLE FILE
BAND_CONTENT: BLACK&WHITE
BAND_CONTENT: UNDEFINED
BAND_CONTENT: UNDEFINED
BITS_PER_PIXEL: 8
SAMPLES_AND_LINES: 5266 7583
HORIZONTAL_DATUM: NAD83
HORIZONTAL_COORDINATE_SYSTEM: UTM
COORDINATE_ZONE: 13
HORIZONTAL_UNITS: meters
HORIZONTAL_RESOLUTION: 1.00000
SECONDARY_HORIZONTAL_DATUM: NAD27
XY_ORIGIN: 522571.00000 5413937.00000
SECONDARY_XY_ORIGIN: 522609.79000 5413715.02300
NATION: US
STATE: MT
NW_QUAD_CORNER_XY: 522914.16800 5413607.34700
NE_QUAD_CORNER_XY: 527496.99300 5413628.05900
SE_QUAD_CORNERY_XY: 527531.23000 5406680.43900
SW_QUAD_CORNER_XY: 522942.69800 5406659.72200
SECONDARY_NW_QUAD_XY: 522914.90200 5413388.34300
SECONDARY_NE_QUAD_XY: 527497.87400 5413409.05500
SECONDARY_SE_QUAD_XY: 527532.11100 5406461.43900
SECONDARY_SW_QUAD_XY: 522943.43300 5406440.72100
RMSE_XY: 2.73000
IMAGE_SOURCE: BLACK AND WHITE FILM
SOURCE_IMAGE_ID: NAPP 9080-124
SOURCE_IMAGE_DATE: 1996 6 12
SOURCE_DEM_DATE: 1998 0 0
AGENCY: WESTERN MAPPING CENTER (WMC)
PRODUCER: WOOLPERT LLP
PRODUCTION_SYSTEM: INTERGRAPH ISPM, ISIR
COMPRESSION: UNDEFINED
STANDARD_VERSION: 1996 12
METADATA_DATE: 2001 9 22
DATA_FILE_SIZE: 39937344
BYTE_COUNT: 5266
