FILENAME: O4810409.NES.1163022.tif
QUADRANGLE_NAME: REDSTONE
QUADRANT: NE
WEST_LONGITUDE: -104 56 15.00000
EAST_LONGITUDE: -104 52 30.00000
NORTH_LATITUDE: 48 52 30.00000
SOUTH_LATITUDE: 48 48 45.00000
PRODUCTION_DATE: 2001 9 22
RASTER_ORDER: LEFT_RIGHT/TOP_BOTTOM
BAND_ORGANIZATION: SINGLE FILE
BAND_CONTENT: BLACK&WHITE
BAND_CONTENT: UNDEFINED
BAND_CONTENT: UNDEFINED
BITS_PER_PIXEL: 8
SAMPLES_AND_LINES: 5244 7567
HORIZONTAL_DATUM: NAD83
HORIZONTAL_COORDINATE_SYSTEM: UTM
COORDINATE_ZONE: 13
HORIZONTAL_UNITS: meters
HORIZONTAL_RESOLUTION: 1.00000
SECONDARY_HORIZONTAL_DATUM: NAD27
XY_ORIGIN: 504239.00000 5413876.00000
SECONDARY_XY_ORIGIN: 504277.89700 5413654.15000
NATION: US
STATE: MT
NW_QUAD_CORNER_XY: 504582.83600 5413562.15800
NE_QUAD_CORNER_XY: 509165.67200 5413567.80700
SE_QUAD_CORNERY_XY: 509177.08400 5406620.17000
SW_QUAD_CORNER_XY: 504588.54300 5406614.52000
SECONDARY_NW_QUAD_XY: 504582.98300 5413343.15300
SECONDARY_NE_QUAD_XY: 509165.96600 5413348.80100
SECONDARY_SE_QUAD_XY: 509177.37800 5406401.16800
SECONDARY_SW_QUAD_XY: 504588.68900 5406395.51700
RMSE_XY: 5.12000
IMAGE_SOURCE: BLACK AND WHITE FILM
SOURCE_IMAGE_ID: NAPP 9081-208
SOURCE_IMAGE_DATE: 1996 6 12
SOURCE_DEM_DATE: 1998 0 0
AGENCY: WESTERN MAPPING CENTER (WMC)
PRODUCER: WOOLPERT LLP
PRODUCTION_SYSTEM: INTERGRAPH ISPM, ISIR
COMPRESSION: UNDEFINED
STANDARD_VERSION: 1996 12
METADATA_DATE: 2001 9 22
DATA_FILE_SIZE: 39686592
BYTE_COUNT: 5244
