FILENAME: O4810409.SES.1163024.tif
QUADRANGLE_NAME: REDSTONE
QUADRANT: SE
WEST_LONGITUDE: -104 56 15.00000
EAST_LONGITUDE: -104 52 30.00000
NORTH_LATITUDE: 48 48 45.00000
SOUTH_LATITUDE: 48 45 0.00000
PRODUCTION_DATE: 2001 9 22
RASTER_ORDER: LEFT_RIGHT/TOP_BOTTOM
BAND_ORGANIZATION: SINGLE FILE
BAND_CONTENT: BLACK&WHITE
BAND_CONTENT: UNDEFINED
BAND_CONTENT: UNDEFINED
BITS_PER_PIXEL: 8
SAMPLES_AND_LINES: 5250 7568
HORIZONTAL_DATUM: NAD83
HORIZONTAL_COORDINATE_SYSTEM: UTM
COORDINATE_ZONE: 13
HORIZONTAL_UNITS: meters
HORIZONTAL_RESOLUTION: 1.00000
SECONDARY_HORIZONTAL_DATUM: NAD27
XY_ORIGIN: 504244.00000 5406929.00000
SECONDARY_XY_ORIGIN: 504282.91400 5406707.14800
NATION: US
STATE: MT
NW_QUAD_CORNER_XY: 504588.54300 5406614.52000
NE_QUAD_CORNER_XY: 509177.08400 5406620.17000
SE_QUAD_CORNERY_XY: 509188.48600 5399672.60900
SW_QUAD_CORNER_XY: 504594.24300 5399666.95700
SECONDARY_NW_QUAD_XY: 504588.68900 5406395.51700
SECONDARY_NE_QUAD_XY: 509177.37800 5406401.16800
SECONDARY_SE_QUAD_XY: 509188.77900 5399453.61100
SECONDARY_SW_QUAD_XY: 504594.39000 5399447.95900
RMSE_XY: 3.92000
IMAGE_SOURCE: BLACK AND WHITE FILM
SOURCE_IMAGE_ID: NAPP 9081-206
SOURCE_IMAGE_DATE: 1996 6 12
SOURCE_DEM_DATE: 1998 0 0
AGENCY: WESTERN MAPPING CENTER (WMC)
PRODUCER: WOOLPERT LLP
PRODUCTION_SYSTEM: INTERGRAPH ISPM, ISIR
COMPRESSION: UNDEFINED
STANDARD_VERSION: 1996 12
METADATA_DATE: 2001 9 22
DATA_FILE_SIZE: 39737250
BYTE_COUNT: 5250
