FILENAME: O4810408.SWS.1163506.tif
QUADRANGLE_NAME: WESTBY NORTH
QUADRANT: SW
WEST_LONGITUDE: -104 7 30.00000
EAST_LONGITUDE: -104 3 45.00000
NORTH_LATITUDE: 48 56 15.00000
SOUTH_LATITUDE: 48 52 30.00000
PRODUCTION_DATE: 2001 10 7
RASTER_ORDER: LEFT_RIGHT/TOP_BOTTOM
BAND_ORGANIZATION: SINGLE FILE
BAND_CONTENT: BLACK&WHITE
BAND_CONTENT: UNDEFINED
BAND_CONTENT: UNDEFINED
BITS_PER_PIXEL: 8
SAMPLES_AND_LINES: 5310 7616
HORIZONTAL_DATUM: NAD83
HORIZONTAL_COORDINATE_SYSTEM: UTM
COORDINATE_ZONE: 13
HORIZONTAL_UNITS: meters
HORIZONTAL_RESOLUTION: 1.00000
SECONDARY_HORIZONTAL_DATUM: NAD27
XY_ORIGIN: 563738.00000 5421240.00000
SECONDARY_XY_ORIGIN: 563776.24300 5421018.45000
NATION: US
STATE: MT
NW_QUAD_CORNER_XY: 564079.41100 5420876.93200
NE_QUAD_CORNER_XY: 568656.45800 5420931.52200
SE_QUAD_CORNERY_XY: 568742.13800 5413983.93300
SW_QUAD_CORNER_XY: 564159.37800 5413929.32600
SECONDARY_NW_QUAD_XY: 564081.46600 5420657.93500
SECONDARY_NE_QUAD_XY: 568658.66000 5420712.52700
SECONDARY_SE_QUAD_XY: 568744.34100 5413764.94000
SECONDARY_SW_QUAD_XY: 564161.43400 5413710.33200
RMSE_XY: 3.80000
IMAGE_SOURCE: BLACK AND WHITE FILM
SOURCE_IMAGE_ID: NAPP 8631-006
SOURCE_IMAGE_DATE: 1995 7 28
SOURCE_DEM_DATE: 1998 0 0
AGENCY: WESTERN MAPPING CENTER (WMC)
PRODUCER: WOOLPERT LLP
PRODUCTION_SYSTEM: INTERGRAPH ISPM, ISIR
COMPRESSION: UNDEFINED
STANDARD_VERSION: 1996 12
METADATA_DATE: 2001 10 7
DATA_FILE_SIZE: 40446270
BYTE_COUNT: 5310
