FILENAME: O4810406.NES.1163481.tif
QUADRANGLE_NAME: PARK LAKE
QUADRANT: NE
WEST_LONGITUDE: -104 18 45.00000
EAST_LONGITUDE: -104 15 0.00000
NORTH_LATITUDE: 49 0 0.00000
SOUTH_LATITUDE: 48 56 15.00000
PRODUCTION_DATE: 2001 10 7
RASTER_ORDER: LEFT_RIGHT/TOP_BOTTOM
BAND_ORGANIZATION: SINGLE FILE
BAND_CONTENT: BLACK&WHITE
BAND_CONTENT: UNDEFINED
BAND_CONTENT: UNDEFINED
BITS_PER_PIXEL: 8
SAMPLES_AND_LINES: 5288 7605
HORIZONTAL_DATUM: NAD83
HORIZONTAL_COORDINATE_SYSTEM: UTM
COORDINATE_ZONE: 13
HORIZONTAL_UNITS: meters
HORIZONTAL_RESOLUTION: 1.00000
SECONDARY_HORIZONTAL_DATUM: NAD27
XY_ORIGIN: 549943.00000 5428035.00000
SECONDARY_XY_ORIGIN: 549981.35700 5427813.38100
NATION: US
NATION: CA
STATE: MT
NW_QUAD_CORNER_XY: 550285.31900 5427683.47500
NE_QUAD_CORNER_XY: 554856.67700 5427726.75600
SE_QUAD_CORNERY_XY: 554925.28600 5420779.04700
SW_QUAD_CORNER_XY: 550348.21000 5420735.75300
SECONDARY_NW_QUAD_XY: 550286.93400 5427464.47200
SECONDARY_NE_QUAD_XY: 554858.43900 5427507.75500
SECONDARY_SE_QUAD_XY: 554927.04800 5420560.04700
SECONDARY_SW_QUAD_XY: 550349.82500 5420516.75100
RMSE_XY: 3.09000
IMAGE_SOURCE: BLACK AND WHITE FILM
SOURCE_IMAGE_ID: NAPP 9124-102
SOURCE_IMAGE_DATE: 1997 8 22
SOURCE_DEM_DATE: 1998 0 0
AGENCY: WESTERN MAPPING CENTER (WMC)
PRODUCER: WOOLPERT LLP
PRODUCTION_SYSTEM: INTERGRAPH ISPM, ISIR
COMPRESSION: UNDEFINED
STANDARD_VERSION: 1996 12
METADATA_DATE: 2001 10 7
DATA_FILE_SIZE: 40220528
BYTE_COUNT: 5288
