FILENAME: O4810406.NWS.1163482.tif
QUADRANGLE_NAME: PARK LAKE
QUADRANT: NW
WEST_LONGITUDE: -104 22 30.00000
EAST_LONGITUDE: -104 18 45.00000
NORTH_LATITUDE: 49 0 0.00000
SOUTH_LATITUDE: 48 56 15.00000
PRODUCTION_DATE: 2001 10 7
RASTER_ORDER: LEFT_RIGHT/TOP_BOTTOM
BAND_ORGANIZATION: SINGLE FILE
BAND_CONTENT: BLACK&WHITE
BAND_CONTENT: UNDEFINED
BAND_CONTENT: UNDEFINED
BITS_PER_PIXEL: 8
SAMPLES_AND_LINES: 5283 7601
HORIZONTAL_DATUM: NAD83
HORIZONTAL_COORDINATE_SYSTEM: UTM
COORDINATE_ZONE: 13
HORIZONTAL_UNITS: meters
HORIZONTAL_RESOLUTION: 1.00000
SECONDARY_HORIZONTAL_DATUM: NAD27
XY_ORIGIN: 545371.00000 5427992.00000
SECONDARY_XY_ORIGIN: 545409.44800 5427770.26800
NATION: US
NATION: CA
STATE: MT
NW_QUAD_CORNER_XY: 545713.95300 5427643.95700
NE_QUAD_CORNER_XY: 550285.31900 5427683.47500
SE_QUAD_CORNERY_XY: 550348.21000 5420735.75300
SW_QUAD_CORNER_XY: 545771.12600 5420696.22300
SECONDARY_NW_QUAD_XY: 545715.42100 5427424.95300
SECONDARY_NE_QUAD_XY: 550286.93400 5427464.47200
SECONDARY_SE_QUAD_XY: 550349.82500 5420516.75100
SECONDARY_SW_QUAD_XY: 545772.59400 5420477.22100
RMSE_XY: 3.21000
IMAGE_SOURCE: BLACK AND WHITE FILM
SOURCE_IMAGE_ID: NAPP 9095-120
SOURCE_IMAGE_DATE: 1996 7 9
SOURCE_DEM_DATE: 1998 0 0
AGENCY: WESTERN MAPPING CENTER (WMC)
PRODUCER: WOOLPERT LLP
PRODUCTION_SYSTEM: INTERGRAPH ISPM, ISIR
COMPRESSION: UNDEFINED
STANDARD_VERSION: 1996 12
METADATA_DATE: 2001 10 7
DATA_FILE_SIZE: 40161366
BYTE_COUNT: 5283
