FILENAME: O4810406.SWS.1163484.tif
QUADRANGLE_NAME: PARK LAKE
QUADRANT: SW
WEST_LONGITUDE: -104 22 30.00000
EAST_LONGITUDE: -104 18 45.00000
NORTH_LATITUDE: 48 56 15.00000
SOUTH_LATITUDE: 48 52 30.00000
PRODUCTION_DATE: 2001 10 7
RASTER_ORDER: LEFT_RIGHT/TOP_BOTTOM
BAND_ORGANIZATION: SINGLE FILE
BAND_CONTENT: BLACK&WHITE
BAND_CONTENT: UNDEFINED
BAND_CONTENT: UNDEFINED
BITS_PER_PIXEL: 8
SAMPLES_AND_LINES: 5288 7601
HORIZONTAL_DATUM: NAD83
HORIZONTAL_COORDINATE_SYSTEM: UTM
COORDINATE_ZONE: 13
HORIZONTAL_UNITS: meters
HORIZONTAL_RESOLUTION: 1.00000
SECONDARY_HORIZONTAL_DATUM: NAD27
XY_ORIGIN: 545429.00000 5421044.00000
SECONDARY_XY_ORIGIN: 545467.48400 5420822.26000
NATION: US
STATE: MT
NW_QUAD_CORNER_XY: 545771.12600 5420696.22300
NE_QUAD_CORNER_XY: 550348.21000 5420735.75300
SE_QUAD_CORNERY_XY: 550411.04000 5413788.10500
SW_QUAD_CORNER_XY: 545828.24400 5413748.56400
SECONDARY_NW_QUAD_XY: 545772.59400 5420477.22100
SECONDARY_NE_QUAD_XY: 550349.82500 5420516.75100
SECONDARY_SE_QUAD_XY: 550412.65500 5413569.10700
SECONDARY_SW_QUAD_XY: 545829.71200 5413529.56400
RMSE_XY: 2.76000
IMAGE_SOURCE: BLACK AND WHITE FILM
SOURCE_IMAGE_ID: NAPP 9095-118
SOURCE_IMAGE_DATE: 1996 7 9
SOURCE_DEM_DATE: 1998 0 0
AGENCY: WESTERN MAPPING CENTER (WMC)
PRODUCER: WOOLPERT LLP
PRODUCTION_SYSTEM: INTERGRAPH ISPM, ISIR
COMPRESSION: UNDEFINED
STANDARD_VERSION: 1996 12
METADATA_DATE: 2001 10 7
DATA_FILE_SIZE: 40199376
BYTE_COUNT: 5288
