FILENAME: O4810405.NWS.1163470.tif
QUADRANGLE_NAME: DOOLEY
QUADRANT: NW
WEST_LONGITUDE: -104 30 0.00000
EAST_LONGITUDE: -104 26 15.00000
NORTH_LATITUDE: 49 0 0.00000
SOUTH_LATITUDE: 48 56 15.00000
PRODUCTION_DATE: 2001 10 7
RASTER_ORDER: LEFT_RIGHT/TOP_BOTTOM
BAND_ORGANIZATION: SINGLE FILE
BAND_CONTENT: BLACK&WHITE
BAND_CONTENT: UNDEFINED
BAND_CONTENT: UNDEFINED
BITS_PER_PIXEL: 8
SAMPLES_AND_LINES: 5272 7594
HORIZONTAL_DATUM: NAD83
HORIZONTAL_COORDINATE_SYSTEM: UTM
COORDINATE_ZONE: 13
HORIZONTAL_UNITS: meters
HORIZONTAL_RESOLUTION: 1.00000
SECONDARY_HORIZONTAL_DATUM: NAD27
XY_ORIGIN: 536228.00000 5427917.00000
SECONDARY_XY_ORIGIN: 536266.62700 5427695.04800
NATION: US
NATION: CA
STATE: MT
NW_QUAD_CORNER_XY: 536571.19800 5427576.21300
NE_QUAD_CORNER_XY: 541142.57900 5427608.20300
SE_QUAD_CORNERY_XY: 541194.03400 5420660.45800
SW_QUAD_CORNER_XY: 536616.93600 5420628.45900
SECONDARY_NW_QUAD_XY: 536572.37300 5427357.20700
SECONDARY_NE_QUAD_XY: 541143.90000 5427389.19800
SECONDARY_SE_QUAD_XY: 541195.35600 5420441.45500
SECONDARY_SW_QUAD_XY: 536618.11100 5420409.45400
RMSE_XY: 2.46000
IMAGE_SOURCE: BLACK AND WHITE FILM
SOURCE_IMAGE_ID: NAPP 9083-011
SOURCE_IMAGE_DATE: 1996 6 12
SOURCE_DEM_DATE: 1998 0 0
AGENCY: WESTERN MAPPING CENTER (WMC)
PRODUCER: WOOLPERT LLP
PRODUCTION_SYSTEM: INTERGRAPH ISPM, ISIR
COMPRESSION: UNDEFINED
STANDARD_VERSION: 1996 12
METADATA_DATE: 2001 10 7
DATA_FILE_SIZE: 40040840
BYTE_COUNT: 5272
