FILENAME: O4810404.NES.1163054.tif
QUADRANGLE_NAME: RAYMOND
QUADRANT: NE
WEST_LONGITUDE: -104 33 45.00000
EAST_LONGITUDE: -104 30 0.00000
NORTH_LATITUDE: 49 0 0.00000
SOUTH_LATITUDE: 48 56 15.00000
PRODUCTION_DATE: 2001 9 22
RASTER_ORDER: LEFT_RIGHT/TOP_BOTTOM
BAND_ORGANIZATION: SINGLE FILE
BAND_CONTENT: BLACK&WHITE
BAND_CONTENT: UNDEFINED
BAND_CONTENT: UNDEFINED
BITS_PER_PIXEL: 8
SAMPLES_AND_LINES: 5265 7590
HORIZONTAL_DATUM: NAD83
HORIZONTAL_COORDINATE_SYSTEM: UTM
COORDINATE_ZONE: 13
HORIZONTAL_UNITS: meters
HORIZONTAL_RESOLUTION: 1.00000
SECONDARY_HORIZONTAL_DATUM: NAD27
XY_ORIGIN: 531657.00000 5427885.00000
SECONDARY_XY_ORIGIN: 531695.67400 5427663.01300
NATION: US
NATION: CA
STATE: MT
NW_QUAD_CORNER_XY: 531999.81200 5427547.98700
NE_QUAD_CORNER_XY: 536571.19800 5427576.21300
SE_QUAD_CORNERY_XY: 536616.93600 5420628.45900
SW_QUAD_CORNER_XY: 532039.83200 5420600.22400
SECONDARY_NW_QUAD_XY: 532000.83900 5427328.97900
SECONDARY_NE_QUAD_XY: 536572.37300 5427357.20700
SECONDARY_SE_QUAD_XY: 536618.11100 5420409.45400
SECONDARY_SW_QUAD_XY: 532040.86000 5420381.21800
RMSE_XY: 3.49000
IMAGE_SOURCE: BLACK AND WHITE FILM
SOURCE_IMAGE_ID: NAPP 9082-102
SOURCE_IMAGE_DATE: 1996 6 12
SOURCE_DEM_DATE: 1998 0 0
AGENCY: WESTERN MAPPING CENTER (WMC)
PRODUCER: WOOLPERT LLP
PRODUCTION_SYSTEM: INTERGRAPH ISPM, ISIR
COMPRESSION: UNDEFINED
STANDARD_VERSION: 1996 12
METADATA_DATE: 2001 9 22
DATA_FILE_SIZE: 39966615
BYTE_COUNT: 5265
