FILENAME: O4810402.NWS.1163031.tif
QUADRANGLE_NAME: OUTLOOK
QUADRANT: NW
WEST_LONGITUDE: -104 52 30.00000
EAST_LONGITUDE: -104 48 45.00000
NORTH_LATITUDE: 49 0 0.00000
SOUTH_LATITUDE: 48 56 15.00000
PRODUCTION_DATE: 2001 9 22
RASTER_ORDER: LEFT_RIGHT/TOP_BOTTOM
BAND_ORGANIZATION: SINGLE FILE
BAND_CONTENT: BLACK&WHITE
BAND_CONTENT: UNDEFINED
BAND_CONTENT: UNDEFINED
BITS_PER_PIXEL: 8
SAMPLES_AND_LINES: 5238 7571
HORIZONTAL_DATUM: NAD83
HORIZONTAL_COORDINATE_SYSTEM: UTM
COORDINATE_ZONE: 13
HORIZONTAL_UNITS: meters
HORIZONTAL_RESOLUTION: 1.00000
SECONDARY_HORIZONTAL_DATUM: NAD27
XY_ORIGIN: 508799.00000 5427781.00000
SECONDARY_XY_ORIGIN: 508837.84900 5427559.07600
NATION: US
NATION: CA
STATE: MT
NW_QUAD_CORNER_XY: 509142.81500 5427463.30800
NE_QUAD_CORNER_XY: 513714.22000 5427472.71700
SE_QUAD_CORNERY_XY: 513731.37100 5420524.93100
SW_QUAD_CORNER_XY: 509154.24900 5420515.52000
SECONDARY_NW_QUAD_XY: 509143.10800 5427244.29800
SECONDARY_NE_QUAD_XY: 513714.66000 5427253.70700
SECONDARY_SE_QUAD_XY: 513731.81200 5420305.92300
SECONDARY_SW_QUAD_XY: 509154.54200 5420296.51100
RMSE_XY: 4.12000
IMAGE_SOURCE: BLACK AND WHITE FILM
SOURCE_IMAGE_ID: NAPP 9081-089
SOURCE_IMAGE_DATE: 1996 6 12
SOURCE_DEM_DATE: 1998 0 0
AGENCY: WESTERN MAPPING CENTER (WMC)
PRODUCER: WOOLPERT LLP
PRODUCTION_SYSTEM: INTERGRAPH ISPM, ISIR
COMPRESSION: UNDEFINED
STANDARD_VERSION: 1996 12
METADATA_DATE: 2001 9 23
DATA_FILE_SIZE: 39662136
BYTE_COUNT: 5238
