FILENAME: O4810564.SWS.1133009.tif
QUADRANGLE_NAME: SPROLE
QUADRANT: SW
WEST_LONGITUDE: -105 7 30.00000
EAST_LONGITUDE: -105 3 45.00000
NORTH_LATITUDE: 48 3 45.00000
SOUTH_LATITUDE: 48 0 0.00000
PRODUCTION_DATE: 2001 3 14
RASTER_ORDER: LEFT_RIGHT/TOP_BOTTOM
BAND_ORGANIZATION: SINGLE FILE
BAND_CONTENT: BLACK&WHITE
BAND_CONTENT: UNDEFINED
BAND_CONTENT: UNDEFINED
BITS_PER_PIXEL: 8
SAMPLES_AND_LINES: 5319 7565
HORIZONTAL_DATUM: NAD83
HORIZONTAL_COORDINATE_SYSTEM: UTM
COORDINATE_ZONE: 13
HORIZONTAL_UNITS: meters
HORIZONTAL_RESOLUTION: 1.00000
SECONDARY_HORIZONTAL_DATUM: NAD27
XY_ORIGIN: 490330.00000 5323562.00000
SECONDARY_XY_ORIGIN: 490369.50000 5323340.98400
NATION: US
STATE: MT
NW_QUAD_CORNER_XY: 490686.83100 5323254.43500
NE_QUAD_CORNER_XY: 495343.41500 5323248.76700
SE_QUAD_CORNERY_XY: 495337.78100 5316302.11400
SW_QUAD_CORNER_XY: 490675.56300 5316307.78300
SECONDARY_NW_QUAD_XY: 490686.53700 5323035.54000
SECONDARY_NE_QUAD_XY: 495343.26800 5323029.87200
SECONDARY_SE_QUAD_XY: 495337.63400 5316083.23300
SECONDARY_SW_QUAD_XY: 490675.26900 5316088.90300
RMSE_XY: 1.98000
IMAGE_SOURCE: BLACK AND WHITE FILM
SOURCE_IMAGE_ID: NAPP 9103-134
SOURCE_IMAGE_DATE: 1996 7 15
SOURCE_IMAGE_ID: NAPP 9103-135
SOURCE_IMAGE_DATE: 1996 7 15
SOURCE_DEM_DATE: 1998 0 0
AGENCY: WESTERN MAPPING CENTER (WMC)
PRODUCER: WOOLPERT LLP
PRODUCTION_SYSTEM: INTERGRAPH ISPM, ISIR
COMPRESSION: UNDEFINED
STANDARD_VERSION: 1996 12
METADATA_DATE: 2001 3 20
DATA_FILE_SIZE: 40243554
BYTE_COUNT: 5319
