FILENAME: O4810563.SWS.1139314.tif
QUADRANGLE_NAME: POPLAR
QUADRANT: SW
WEST_LONGITUDE: -105 15 0.00000
EAST_LONGITUDE: -105 11 15.00000
NORTH_LATITUDE: 48 3 45.00000
SOUTH_LATITUDE: 48 0 0.00000
PRODUCTION_DATE: 2001 3 30
RASTER_ORDER: LEFT_RIGHT/TOP_BOTTOM
BAND_ORGANIZATION: SINGLE FILE
BAND_CONTENT: BLACK&WHITE
BAND_CONTENT: UNDEFINED
BAND_CONTENT: UNDEFINED
BITS_PER_PIXEL: 8
SAMPLES_AND_LINES: 5331 7573
HORIZONTAL_DATUM: NAD83
HORIZONTAL_COORDINATE_SYSTEM: UTM
COORDINATE_ZONE: 13
HORIZONTAL_UNITS: meters
HORIZONTAL_RESOLUTION: 1.00000
SECONDARY_HORIZONTAL_DATUM: NAD27
XY_ORIGIN: 481005.00000 5323585.00000
SECONDARY_XY_ORIGIN: 481044.57800 5323363.97600
NATION: US
STATE: MT
NW_QUAD_CORNER_XY: 481373.66700 5323277.10600
NE_QUAD_CORNER_XY: 486030.24800 5323263.88100
SE_QUAD_CORNERY_XY: 486013.34600 5316317.23200
SW_QUAD_CORNER_XY: 481351.13000 5316330.46000
SECONDARY_NW_QUAD_XY: 481373.08000 5323058.21200
SECONDARY_NE_QUAD_XY: 486029.80800 5323044.98700
SECONDARY_SE_QUAD_XY: 486012.90600 5316098.35200
SECONDARY_SW_QUAD_XY: 481350.54300 5316111.58000
RMSE_XY: 2.48000
IMAGE_SOURCE: BLACK AND WHITE FILM
SOURCE_IMAGE_ID: NAPP 10725-030
SOURCE_IMAGE_DATE: 1997 9 2
SOURCE_IMAGE_ID: NAPP 10725-029
SOURCE_IMAGE_DATE: 1997 9 2
SOURCE_DEM_DATE: 1998 0 0
AGENCY: WESTERN MAPPING CENTER (WMC)
PRODUCER: WOOLPERT LLP
PRODUCTION_SYSTEM: INTERGRAPH ISPM, ISIR
COMPRESSION: UNDEFINED
STANDARD_VERSION: 1996 12
METADATA_DATE: 2001 4 27
DATA_FILE_SIZE: 40376994
BYTE_COUNT: 5331
