FILENAME: O4810562.NES.1139299.tif
QUADRANGLE_NAME: NICKWALL
QUADRANT: NE
WEST_LONGITUDE: -105 18 45.00000
EAST_LONGITUDE: -105 15 0.00000
NORTH_LATITUDE: 48 7 30.00000
SOUTH_LATITUDE: 48 3 45.00000
PRODUCTION_DATE: 2001 4 4
RASTER_ORDER: LEFT_RIGHT/TOP_BOTTOM
BAND_ORGANIZATION: SINGLE FILE
BAND_CONTENT: BLACK&WHITE
BAND_CONTENT: UNDEFINED
BAND_CONTENT: UNDEFINED
BITS_PER_PIXEL: 8
SAMPLES_AND_LINES: 5331 7577
HORIZONTAL_DATUM: NAD83
HORIZONTAL_COORDINATE_SYSTEM: UTM
COORDINATE_ZONE: 13
HORIZONTAL_UNITS: meters
HORIZONTAL_RESOLUTION: 1.00000
SECONDARY_HORIZONTAL_DATUM: NAD27
XY_ORIGIN: 476371.00000 5330549.00000
SECONDARY_XY_ORIGIN: 476410.60300 5330327.87800
NATION: US
STATE: MT
NW_QUAD_CORNER_XY: 476745.28600 5330240.82800
NE_QUAD_CORNER_XY: 481396.22500 5330223.82800
SE_QUAD_CORNERY_XY: 481373.66700 5323277.10600
SW_QUAD_CORNER_XY: 476717.08800 5323294.11000
SECONDARY_NW_QUAD_XY: 476744.55200 5330021.92100
SECONDARY_NE_QUAD_XY: 481395.63800 5330004.92100
SECONDARY_SE_QUAD_XY: 481373.08000 5323058.21200
SECONDARY_SW_QUAD_XY: 476716.35400 5323075.21600
RMSE_XY: 1.91000
IMAGE_SOURCE: BLACK AND WHITE FILM
SOURCE_IMAGE_ID: NAPP 9113-059
SOURCE_IMAGE_DATE: 1996 8 16
SOURCE_DEM_DATE: 1998 0 0
AGENCY: WESTERN MAPPING CENTER (WMC)
PRODUCER: WOOLPERT LLP
PRODUCTION_SYSTEM: INTERGRAPH ISPM, ISIR
COMPRESSION: UNDEFINED
STANDARD_VERSION: 1996 12
METADATA_DATE: 2001 4 4
DATA_FILE_SIZE: 40398318
BYTE_COUNT: 5331
