FILENAME: O4810561.NES.1139287.tif
QUADRANGLE_NAME: CHELSEA SW
QUADRANT: NE
WEST_LONGITUDE: -105 26 15.00000
EAST_LONGITUDE: -105 22 30.00000
NORTH_LATITUDE: 48 7 30.00000
SOUTH_LATITUDE: 48 3 45.00000
PRODUCTION_DATE: 2001 4 6
RASTER_ORDER: LEFT_RIGHT/TOP_BOTTOM
BAND_ORGANIZATION: SINGLE FILE
BAND_CONTENT: BLACK&WHITE
BAND_CONTENT: UNDEFINED
BAND_CONTENT: UNDEFINED
BITS_PER_PIXEL: 8
SAMPLES_AND_LINES: 5342 7585
HORIZONTAL_DATUM: NAD83
HORIZONTAL_COORDINATE_SYSTEM: UTM
COORDINATE_ZONE: 13
HORIZONTAL_UNITS: meters
HORIZONTAL_RESOLUTION: 1.00000
SECONDARY_HORIZONTAL_DATUM: NAD27
XY_ORIGIN: 467058.00000 5330594.00000
SECONDARY_XY_ORIGIN: 467097.73600 5330372.81800
NATION: US
STATE: MT
NW_QUAD_CORNER_XY: 467443.41700 5330286.16100
NE_QUAD_CORNER_XY: 472094.35000 5330261.60500
SE_QUAD_CORNERY_XY: 472060.51100 5323314.89200
SW_QUAD_CORNER_XY: 467403.93900 5323339.45300
SECONDARY_NW_QUAD_XY: 467442.39000 5330067.25500
SECONDARY_NE_QUAD_XY: 472093.46900 5330042.69900
SECONDARY_SE_QUAD_XY: 472059.63100 5323095.99900
SECONDARY_SW_QUAD_XY: 467402.91200 5323120.56100
RMSE_XY: 2.19000
IMAGE_SOURCE: BLACK AND WHITE FILM
SOURCE_IMAGE_ID: NAPP 9093-098
SOURCE_IMAGE_DATE: 1996 7 9
SOURCE_IMAGE_ID: NAPP 9093-097
SOURCE_IMAGE_DATE: 1996 7 9
SOURCE_DEM_DATE: 1998 0 0
AGENCY: WESTERN MAPPING CENTER (WMC)
PRODUCER: WOOLPERT LLP
PRODUCTION_SYSTEM: INTERGRAPH ISPM, ISIR
COMPRESSION: UNDEFINED
STANDARD_VERSION: 1996 12
METADATA_DATE: 2001 4 26
DATA_FILE_SIZE: 40524412
BYTE_COUNT: 5342
