FILENAME: O4810560.SES.1139277.tif
QUADRANGLE_NAME: MACON
QUADRANT: SE
WEST_LONGITUDE: -105 33 45.00000
EAST_LONGITUDE: -105 30 0.00000
NORTH_LATITUDE: 48 3 45.00000
SOUTH_LATITUDE: 48 0 0.00000
PRODUCTION_DATE: 2001 4 6
RASTER_ORDER: LEFT_RIGHT/TOP_BOTTOM
BAND_ORGANIZATION: SINGLE FILE
BAND_CONTENT: BLACK&WHITE
BAND_CONTENT: UNDEFINED
BAND_CONTENT: UNDEFINED
BITS_PER_PIXEL: 8
SAMPLES_AND_LINES: 5360 7592
HORIZONTAL_DATUM: NAD83
HORIZONTAL_COORDINATE_SYSTEM: UTM
COORDINATE_ZONE: 13
HORIZONTAL_UNITS: meters
HORIZONTAL_RESOLUTION: 1.00000
SECONDARY_HORIZONTAL_DATUM: NAD27
XY_ORIGIN: 457693.00000 5323708.00000
SECONDARY_XY_ORIGIN: 457732.89300 5323486.86300
NATION: US
STATE: MT
NW_QUAD_CORNER_XY: 458090.80700 5323399.91100
NE_QUAD_CORNER_XY: 462747.37000 5323367.79200
SE_QUAD_CORNERY_XY: 462702.29700 5316421.16700
SW_QUAD_CORNER_XY: 458040.09900 5316453.29200
SECONDARY_NW_QUAD_XY: 458089.48600 5323181.02100
SECONDARY_NE_QUAD_XY: 462746.19700 5323148.90100
SECONDARY_SE_QUAD_XY: 462701.12300 5316202.29000
SECONDARY_SW_QUAD_XY: 458038.77800 5316234.41700
RMSE_XY: 2.45000
IMAGE_SOURCE: BLACK AND WHITE FILM
SOURCE_IMAGE_ID: NAPP 9094-057
SOURCE_IMAGE_DATE: 1996 7 9
SOURCE_IMAGE_ID: NAPP 9094-056
SOURCE_IMAGE_DATE: 1996 7 9
SOURCE_IMAGE_ID: NAPP 9093-160
SOURCE_IMAGE_DATE: 1996 7 9
SOURCE_DEM_DATE: 1998 0 0
AGENCY: WESTERN MAPPING CENTER (WMC)
PRODUCER: WOOLPERT LLP
PRODUCTION_SYSTEM: INTERGRAPH ISPM, ISIR
COMPRESSION: UNDEFINED
STANDARD_VERSION: 1996 12
METADATA_DATE: 2001 4 26
DATA_FILE_SIZE: 40698480
BYTE_COUNT: 5360
