FILENAME: O4810558.NWS.1139252.tif
QUADRANGLE_NAME: FLYNN CREEK SOUTH
QUADRANT: NW
WEST_LONGITUDE: -105 52 30.00000
EAST_LONGITUDE: -105 48 45.00000
NORTH_LATITUDE: 48 7 30.00000
SOUTH_LATITUDE: 48 3 45.00000
PRODUCTION_DATE: 2001 4 4
RASTER_ORDER: LEFT_RIGHT/TOP_BOTTOM
BAND_ORGANIZATION: SINGLE FILE
BAND_CONTENT: BLACK&WHITE
BAND_CONTENT: UNDEFINED
BAND_CONTENT: UNDEFINED
BITS_PER_PIXEL: 8
SAMPLES_AND_LINES: 5383 7611
HORIZONTAL_DATUM: NAD83
HORIZONTAL_COORDINATE_SYSTEM: UTM
COORDINATE_ZONE: 13
HORIZONTAL_UNITS: meters
HORIZONTAL_RESOLUTION: 1.00000
SECONDARY_HORIZONTAL_DATUM: NAD27
XY_ORIGIN: 434460.00000 5330872.00000
SECONDARY_XY_ORIGIN: 434500.07700 5330650.52500
NATION: US
STATE: MT
NW_QUAD_CORNER_XY: 434887.03800 5330563.83000
NE_QUAD_CORNER_XY: 439537.92900 5330512.82900
SE_QUAD_CORNERY_XY: 439464.61000 5323566.17400
SW_QUAD_CORNER_XY: 434808.07800 5323617.18700
SECONDARY_NW_QUAD_XY: 434884.98400 5330344.93300
SECONDARY_NE_QUAD_XY: 439536.02100 5330293.93000
SECONDARY_SE_QUAD_XY: 439462.70200 5323347.28900
SECONDARY_SW_QUAD_XY: 434806.02400 5323398.30400
RMSE_XY: 1.73000
IMAGE_SOURCE: BLACK AND WHITE FILM
SOURCE_IMAGE_ID: NAPP 11001-014
SOURCE_IMAGE_DATE: 1998 7 15
SOURCE_DEM_DATE: 1998 0 0
AGENCY: WESTERN MAPPING CENTER (WMC)
PRODUCER: WOOLPERT LLP
PRODUCTION_SYSTEM: INTERGRAPH ISPM, ISIR
COMPRESSION: UNDEFINED
STANDARD_VERSION: 1996 12
METADATA_DATE: 2001 4 4
DATA_FILE_SIZE: 40975396
BYTE_COUNT: 5383
