FILENAME: O4810553.NWS.1139284.tif
QUADRANGLE_NAME: CHELSEA NW
QUADRANT: NW
WEST_LONGITUDE: -105 30 0.00000
EAST_LONGITUDE: -105 26 15.00000
NORTH_LATITUDE: 48 15 0.00000
SOUTH_LATITUDE: 48 11 15.00000
PRODUCTION_DATE: 2001 4 6
RASTER_ORDER: LEFT_RIGHT/TOP_BOTTOM
BAND_ORGANIZATION: SINGLE FILE
BAND_CONTENT: BLACK&WHITE
BAND_CONTENT: UNDEFINED
BAND_CONTENT: UNDEFINED
BITS_PER_PIXEL: 8
SAMPLES_AND_LINES: 5337 7589
HORIZONTAL_DATUM: NAD83
HORIZONTAL_COORDINATE_SYSTEM: UTM
COORDINATE_ZONE: 13
HORIZONTAL_UNITS: meters
HORIZONTAL_RESOLUTION: 1.00000
SECONDARY_HORIZONTAL_DATUM: NAD27
XY_ORIGIN: 462491.00000 5344516.00000
SECONDARY_XY_ORIGIN: 462530.72200 5344294.55100
NATION: US
STATE: MT
NW_QUAD_CORNER_XY: 462882.85800 5344208.12200
NE_QUAD_CORNER_XY: 467522.49000 5344179.80200
SE_QUAD_CORNERY_XY: 467482.93400 5337232.94400
SW_QUAD_CORNER_XY: 462837.65100 5337261.27000
SECONDARY_NW_QUAD_XY: 462881.68400 5343989.19200
SECONDARY_NE_QUAD_XY: 467521.46300 5343960.87200
SECONDARY_SE_QUAD_XY: 467481.90700 5337014.02500
SECONDARY_SW_QUAD_XY: 462836.47700 5337042.35200
RMSE_XY: 1.28000
IMAGE_SOURCE: BLACK AND WHITE FILM
SOURCE_IMAGE_ID: NAPP 9093-155
SOURCE_IMAGE_DATE: 1996 7 9
SOURCE_DEM_DATE: 1998 0 0
AGENCY: WESTERN MAPPING CENTER (WMC)
PRODUCER: WOOLPERT LLP
PRODUCTION_SYSTEM: INTERGRAPH ISPM, ISIR
COMPRESSION: UNDEFINED
STANDARD_VERSION: 1996 12
METADATA_DATE: 2001 4 6
DATA_FILE_SIZE: 40507830
BYTE_COUNT: 5337
