FILENAME: O4810553.SES.1139285.tif
QUADRANGLE_NAME: CHELSEA NW
QUADRANT: SE
WEST_LONGITUDE: -105 26 15.00000
EAST_LONGITUDE: -105 22 30.00000
NORTH_LATITUDE: 48 11 15.00000
SOUTH_LATITUDE: 48 7 30.00000
PRODUCTION_DATE: 2001 4 6
RASTER_ORDER: LEFT_RIGHT/TOP_BOTTOM
BAND_ORGANIZATION: SINGLE FILE
BAND_CONTENT: BLACK&WHITE
BAND_CONTENT: UNDEFINED
BAND_CONTENT: UNDEFINED
BITS_PER_PIXEL: 8
SAMPLES_AND_LINES: 5337 7585
HORIZONTAL_DATUM: NAD83
HORIZONTAL_COORDINATE_SYSTEM: UTM
COORDINATE_ZONE: 13
HORIZONTAL_UNITS: meters
HORIZONTAL_RESOLUTION: 1.00000
SECONDARY_HORIZONTAL_DATUM: NAD27
XY_ORIGIN: 467097.00000 5337541.00000
SECONDARY_XY_ORIGIN: 467136.69700 5337319.71100
NATION: US
STATE: MT
NW_QUAD_CORNER_XY: 467482.93400 5337232.94400
NE_QUAD_CORNER_XY: 472128.22100 5337208.39400
SE_QUAD_CORNERY_XY: 472094.35000 5330261.60500
SW_QUAD_CORNER_XY: 467443.41700 5330286.16100
SECONDARY_NW_QUAD_XY: 467481.90700 5337014.02500
SECONDARY_NE_QUAD_XY: 472127.34100 5336989.47500
SECONDARY_SE_QUAD_XY: 472093.46900 5330042.69900
SECONDARY_SW_QUAD_XY: 467442.39000 5330067.25500
RMSE_XY: 1.45000
IMAGE_SOURCE: BLACK AND WHITE FILM
SOURCE_IMAGE_ID: NAPP 9093-100
SOURCE_IMAGE_DATE: 1996 7 9
SOURCE_DEM_DATE: 1998 0 0
AGENCY: WESTERN MAPPING CENTER (WMC)
PRODUCER: WOOLPERT LLP
PRODUCTION_SYSTEM: INTERGRAPH ISPM, ISIR
COMPRESSION: UNDEFINED
STANDARD_VERSION: 1996 12
METADATA_DATE: 2001 4 6
DATA_FILE_SIZE: 40486482
BYTE_COUNT: 5337
