FILENAME: O4810552.SWS.1139274.tif
QUADRANGLE_NAME: WOLF POINT NE
QUADRANT: SW
WEST_LONGITUDE: -105 37 30.00000
EAST_LONGITUDE: -105 33 45.00000
NORTH_LATITUDE: 48 11 15.00000
SOUTH_LATITUDE: 48 7 30.00000
PRODUCTION_DATE: 2001 4 6
RASTER_ORDER: LEFT_RIGHT/TOP_BOTTOM
BAND_ORGANIZATION: SINGLE FILE
BAND_CONTENT: BLACK&WHITE
BAND_CONTENT: UNDEFINED
BAND_CONTENT: UNDEFINED
BITS_PER_PIXEL: 8
SAMPLES_AND_LINES: 5354 7596
HORIZONTAL_DATUM: NAD83
HORIZONTAL_COORDINATE_SYSTEM: UTM
COORDINATE_ZONE: 13
HORIZONTAL_UNITS: meters
HORIZONTAL_RESOLUTION: 1.00000
SECONDARY_HORIZONTAL_DATUM: NAD27
XY_ORIGIN: 453144.00000 5337637.00000
SECONDARY_XY_ORIGIN: 453183.82900 5337415.58100
NATION: US
STATE: MT
NW_QUAD_CORNER_XY: 453547.10000 5337329.25400
NE_QUAD_CORNER_XY: 458192.37300 5337293.37300
SE_QUAD_CORNERY_XY: 458141.56500 5330346.60400
SW_QUAD_CORNER_XY: 453490.64600 5330382.49300
SECONDARY_NW_QUAD_XY: 453545.63300 5337110.33800
SECONDARY_NE_QUAD_XY: 458191.05200 5337074.45700
SECONDARY_SE_QUAD_XY: 458140.24400 5330127.70100
SECONDARY_SW_QUAD_XY: 453489.17900 5330163.59100
RMSE_XY: 1.77000
IMAGE_SOURCE: BLACK AND WHITE FILM
SOURCE_IMAGE_ID: NAPP 9094-118
SOURCE_IMAGE_DATE: 1996 7 9
SOURCE_DEM_DATE: 1998 0 0
AGENCY: WESTERN MAPPING CENTER (WMC)
PRODUCER: WOOLPERT LLP
PRODUCTION_SYSTEM: INTERGRAPH ISPM, ISIR
COMPRESSION: UNDEFINED
STANDARD_VERSION: 1996 12
METADATA_DATE: 2001 4 6
DATA_FILE_SIZE: 40674338
BYTE_COUNT: 5354
