FILENAME: O4810551.SWS.1139262.tif
QUADRANGLE_NAME: WOLF POINT NW
QUADRANT: SW
WEST_LONGITUDE: -105 45 0.00000
EAST_LONGITUDE: -105 41 15.00000
NORTH_LATITUDE: 48 11 15.00000
SOUTH_LATITUDE: 48 7 30.00000
PRODUCTION_DATE: 2001 4 6
RASTER_ORDER: LEFT_RIGHT/TOP_BOTTOM
BAND_ORGANIZATION: SINGLE FILE
BAND_CONTENT: BLACK&WHITE
BAND_CONTENT: UNDEFINED
BAND_CONTENT: UNDEFINED
BITS_PER_PIXEL: 8
SAMPLES_AND_LINES: 5365 7603
HORIZONTAL_DATUM: NAD83
HORIZONTAL_COORDINATE_SYSTEM: UTM
COORDINATE_ZONE: 13
HORIZONTAL_UNITS: meters
HORIZONTAL_RESOLUTION: 1.00000
SECONDARY_HORIZONTAL_DATUM: NAD27
XY_ORIGIN: 443842.00000 5337720.00000
SECONDARY_XY_ORIGIN: 443881.89800 5337498.49300
NATION: US
STATE: MT
NW_QUAD_CORNER_XY: 444256.57300 5337412.34600
NE_QUAD_CORNER_XY: 448901.83300 5337368.91100
SE_QUAD_CORNERY_XY: 448839.73400 5330422.16000
SW_QUAD_CORNER_XY: 444188.82800 5330465.60500
SECONDARY_NW_QUAD_XY: 444254.81200 5337193.43300
SECONDARY_NE_QUAD_XY: 448900.21900 5337149.99700
SECONDARY_SE_QUAD_XY: 448838.12000 5330203.25900
SECONDARY_SW_QUAD_XY: 444187.06700 5330246.70500
RMSE_XY: 2.35000
IMAGE_SOURCE: BLACK AND WHITE FILM
SOURCE_IMAGE_ID: NAPP 9105-166
SOURCE_IMAGE_DATE: 1996 8 1
SOURCE_IMAGE_ID: NAPP 9105-165
SOURCE_IMAGE_DATE: 1996 8 1
SOURCE_DEM_DATE: 1998 0 0
AGENCY: WESTERN MAPPING CENTER (WMC)
PRODUCER: WOOLPERT LLP
PRODUCTION_SYSTEM: INTERGRAPH ISPM, ISIR
COMPRESSION: UNDEFINED
STANDARD_VERSION: 1996 12
METADATA_DATE: 2001 4 20
DATA_FILE_SIZE: 40795460
BYTE_COUNT: 5365
