FILENAME: O4810548.SES.1162664.tif
QUADRANGLE_NAME: GEDDART LAKE
QUADRANT: SE
WEST_LONGITUDE: -105 3 45.00000
EAST_LONGITUDE: -105 0 0.00000
NORTH_LATITUDE: 48 18 45.00000
SOUTH_LATITUDE: 48 15 0.00000
PRODUCTION_DATE: 2001 9 23
RASTER_ORDER: LEFT_RIGHT/TOP_BOTTOM
BAND_ORGANIZATION: SINGLE FILE
BAND_CONTENT: BLACK&WHITE
BAND_CONTENT: UNDEFINED
BAND_CONTENT: UNDEFINED
BITS_PER_PIXEL: 8
SAMPLES_AND_LINES: 5290 7562
HORIZONTAL_DATUM: NAD83
HORIZONTAL_COORDINATE_SYSTEM: UTM
COORDINATE_ZONE: 13
HORIZONTAL_UNITS: meters
HORIZONTAL_RESOLUTION: 1.00000
SECONDARY_HORIZONTAL_DATUM: NAD27
XY_ORIGIN: 495015.00000 5351344.00000
SECONDARY_XY_ORIGIN: 495054.31100 5351122.72000
NATION: US
STATE: MT
NW_QUAD_CORNER_XY: 495366.00700 5351036.13800
NE_QUAD_CORNER_XY: 500000.00000 5351034.25000
SE_QUAD_CORNERY_XY: 500000.00000 5344087.29300
SW_QUAD_CORNER_XY: 495360.35100 5344089.18100
SECONDARY_NW_QUAD_XY: 495365.86000 5350817.19400
SECONDARY_NE_QUAD_XY: 500000.00000 5350815.30600
SECONDARY_SE_QUAD_XY: 500000.00000 5343868.36000
SECONDARY_SW_QUAD_XY: 495360.20400 5343870.24800
RMSE_XY: 5.12000
IMAGE_SOURCE: BLACK AND WHITE FILM
SOURCE_IMAGE_ID: NAPP 9096-164
SOURCE_IMAGE_DATE: 1996 7 9
SOURCE_DEM_DATE: 1998 0 0
AGENCY: WESTERN MAPPING CENTER (WMC)
PRODUCER: WOOLPERT LLP
PRODUCTION_SYSTEM: INTERGRAPH ISPM, ISIR
COMPRESSION: UNDEFINED
STANDARD_VERSION: 1996 12
METADATA_DATE: 2001 9 23
DATA_FILE_SIZE: 40008270
BYTE_COUNT: 5290
