FILENAME: O4810545.SWS.1162629.tif
QUADRANGLE_NAME: SIMS SPRING
QUADRANT: SW
WEST_LONGITUDE: -105 30 0.00000
EAST_LONGITUDE: -105 26 15.00000
NORTH_LATITUDE: 48 18 45.00000
SOUTH_LATITUDE: 48 15 0.00000
PRODUCTION_DATE: 2001 9 23
RASTER_ORDER: LEFT_RIGHT/TOP_BOTTOM
BAND_ORGANIZATION: SINGLE FILE
BAND_CONTENT: BLACK&WHITE
BAND_CONTENT: UNDEFINED
BAND_CONTENT: UNDEFINED
BITS_PER_PIXEL: 8
SAMPLES_AND_LINES: 5332 7589
HORIZONTAL_DATUM: NAD83
HORIZONTAL_COORDINATE_SYSTEM: UTM
COORDINATE_ZONE: 13
HORIZONTAL_UNITS: meters
HORIZONTAL_RESOLUTION: 1.00000
SECONDARY_HORIZONTAL_DATUM: NAD27
XY_ORIGIN: 462536.00000 5351463.00000
SECONDARY_XY_ORIGIN: 462575.66500 5351241.46700
NATION: US
STATE: MT
NW_QUAD_CORNER_XY: 462928.11000 5351155.04900
NE_QUAD_CORNER_XY: 467562.08500 5351126.73700
SE_QUAD_CORNERY_XY: 467522.49000 5344179.80200
SW_QUAD_CORNER_XY: 462882.85800 5344208.12200
SECONDARY_NW_QUAD_XY: 462926.93600 5350936.10800
SECONDARY_NE_QUAD_XY: 467561.05800 5350907.79500
SECONDARY_SE_QUAD_XY: 467521.46300 5343960.87200
SECONDARY_SW_QUAD_XY: 462881.68400 5343989.19200
RMSE_XY: 2.49000
IMAGE_SOURCE: BLACK AND WHITE FILM
SOURCE_IMAGE_ID: NAPP 9093-153
SOURCE_IMAGE_DATE: 1996 7 9
SOURCE_DEM_DATE: 1998 0 0
AGENCY: WESTERN MAPPING CENTER (WMC)
PRODUCER: WOOLPERT LLP
PRODUCTION_SYSTEM: INTERGRAPH ISPM, ISIR
COMPRESSION: UNDEFINED
STANDARD_VERSION: 1996 12
METADATA_DATE: 2001 9 23
DATA_FILE_SIZE: 40469880
BYTE_COUNT: 5332
