FILENAME: O4810544.SES.1165627.tif
QUADRANGLE_NAME: TULE VALLEY EAST
QUADRANT: SE
WEST_LONGITUDE: -105 33 45.00000
EAST_LONGITUDE: -105 30 0.00000
NORTH_LATITUDE: 48 18 45.00000
SOUTH_LATITUDE: 48 15 0.00000
PRODUCTION_DATE: 2001 9 15
RASTER_ORDER: LEFT_RIGHT/TOP_BOTTOM
BAND_ORGANIZATION: SINGLE FILE
BAND_CONTENT: BLACK&WHITE
BAND_CONTENT: UNDEFINED
BAND_CONTENT: UNDEFINED
BITS_PER_PIXEL: 8
SAMPLES_AND_LINES: 5337 7592
HORIZONTAL_DATUM: NAD83
HORIZONTAL_COORDINATE_SYSTEM: UTM
COORDINATE_ZONE: 13
HORIZONTAL_UNITS: meters
HORIZONTAL_RESOLUTION: 1.00000
SECONDARY_HORIZONTAL_DATUM: NAD27
XY_ORIGIN: 457897.00000 5351495.00000
SECONDARY_XY_ORIGIN: 457936.69100 5351273.42100
NATION: US
STATE: MT
NW_QUAD_CORNER_XY: 458294.14000 5351187.13700
NE_QUAD_CORNER_XY: 462928.11000 5351155.04900
SE_QUAD_CORNERY_XY: 462882.85800 5344208.12200
SW_QUAD_CORNER_XY: 458243.23100 5344240.21700
SECONDARY_NW_QUAD_XY: 458292.81900 5350968.19700
SECONDARY_NE_QUAD_XY: 462926.93600 5350936.10800
SECONDARY_SE_QUAD_XY: 462881.68400 5343989.19200
SECONDARY_SW_QUAD_XY: 458241.91000 5344021.28900
RMSE_XY: 2.77000
IMAGE_SOURCE: BLACK AND WHITE FILM
SOURCE_IMAGE_ID: NAPP 9094-065
SOURCE_IMAGE_DATE: 1996 7 9
SOURCE_DEM_DATE: 1998 0 0
AGENCY: WESTERN MAPPING CENTER (WMC)
PRODUCER: WOOLPERT LLP
PRODUCTION_SYSTEM: INTERGRAPH ISPM, ISIR
COMPRESSION: UNDEFINED
STANDARD_VERSION: 1996 12
METADATA_DATE: 2001 9 17
DATA_FILE_SIZE: 40523841
BYTE_COUNT: 5337
