FILENAME: O4810541.NWS.1165586.tif
QUADRANGLE_NAME: TODD LAKES
QUADRANT: NW
WEST_LONGITUDE: -106 0 0.00000
EAST_LONGITUDE: -105 56 15.00000
NORTH_LATITUDE: 48 22 30.00000
SOUTH_LATITUDE: 48 18 45.00000
PRODUCTION_DATE: 2001 9 15
RASTER_ORDER: LEFT_RIGHT/TOP_BOTTOM
BAND_ORGANIZATION: SINGLE FILE
BAND_CONTENT: BLACK&WHITE
BAND_CONTENT: UNDEFINED
BAND_CONTENT: UNDEFINED
BITS_PER_PIXEL: 8
SAMPLES_AND_LINES: 5372 7620
HORIZONTAL_DATUM: NAD83
HORIZONTAL_COORDINATE_SYSTEM: UTM
COORDINATE_ZONE: 13
HORIZONTAL_UNITS: meters
HORIZONTAL_RESOLUTION: 1.00000
SECONDARY_HORIZONTAL_DATUM: NAD27
XY_ORIGIN: 425509.00000 5358773.00000
SECONDARY_XY_ORIGIN: 425548.89100 5358550.94400
NATION: US
STATE: MT
NW_QUAD_CORNER_XY: 425947.14000 5358464.37100
NE_QUAD_CORNER_XY: 430575.39400 5358405.87000
SE_QUAD_CORNERY_XY: 430490.45900 5351458.94400
SW_QUAD_CORNER_XY: 425856.54200 5351517.46000
SECONDARY_NW_QUAD_XY: 425944.79100 5358245.43200
SECONDARY_NE_QUAD_XY: 430573.19200 5358186.92900
SECONDARY_SE_QUAD_XY: 430488.25800 5351240.01300
SECONDARY_SW_QUAD_XY: 425854.19300 5351298.53100
RMSE_XY: 4.42000
IMAGE_SOURCE: BLACK AND WHITE FILM
SOURCE_IMAGE_ID: NAPP 9088-145
SOURCE_IMAGE_DATE: 1996 7 7
SOURCE_DEM_DATE: 1998 0 0
AGENCY: WESTERN MAPPING CENTER (WMC)
PRODUCER: WOOLPERT LLP
PRODUCTION_SYSTEM: INTERGRAPH ISPM, ISIR
COMPRESSION: UNDEFINED
STANDARD_VERSION: 1996 12
METADATA_DATE: 2001 9 17
DATA_FILE_SIZE: 40940012
BYTE_COUNT: 5372
