FILENAME: O4810540.NWS.1162659.tif
QUADRANGLE_NAME: HAY CREEK
QUADRANT: NW
WEST_LONGITUDE: -105 7 30.00000
EAST_LONGITUDE: -105 3 45.00000
NORTH_LATITUDE: 48 30 0.00000
SOUTH_LATITUDE: 48 26 15.00000
PRODUCTION_DATE: 2001 9 23
RASTER_ORDER: LEFT_RIGHT/TOP_BOTTOM
BAND_ORGANIZATION: SINGLE FILE
BAND_CONTENT: BLACK&WHITE
BAND_CONTENT: UNDEFINED
BAND_CONTENT: UNDEFINED
BITS_PER_PIXEL: 8
SAMPLES_AND_LINES: 5279 7566
HORIZONTAL_DATUM: NAD83
HORIZONTAL_COORDINATE_SYSTEM: UTM
COORDINATE_ZONE: 13
HORIZONTAL_UNITS: meters
HORIZONTAL_RESOLUTION: 1.00000
SECONDARY_HORIZONTAL_DATUM: NAD27
XY_ORIGIN: 490410.00000 5372191.00000
SECONDARY_XY_ORIGIN: 490449.21800 5371969.44600
NATION: US
STATE: MT
NW_QUAD_CORNER_XY: 490766.02000 5371883.12100
NE_QUAD_CORNER_XY: 495383.00900 5371877.46300
SE_QUAD_CORNERY_XY: 495377.33600 5364930.27900
SW_QUAD_CORNER_XY: 490754.67400 5364935.93800
SECONDARY_NW_QUAD_XY: 490765.72600 5371664.14800
SECONDARY_NE_QUAD_XY: 495382.86300 5371658.49000
SECONDARY_SE_QUAD_XY: 495377.19000 5364711.31500
SECONDARY_SW_QUAD_XY: 490754.38000 5364716.97400
RMSE_XY: 3.99000
IMAGE_SOURCE: BLACK AND WHITE FILM
SOURCE_IMAGE_ID: NAPP 9103-120
SOURCE_IMAGE_DATE: 1996 7 15
SOURCE_DEM_DATE: 1998 0 0
AGENCY: WESTERN MAPPING CENTER (WMC)
PRODUCER: WOOLPERT LLP
PRODUCTION_SYSTEM: INTERGRAPH ISPM, ISIR
COMPRESSION: UNDEFINED
STANDARD_VERSION: 1996 12
METADATA_DATE: 2001 9 23
DATA_FILE_SIZE: 39946193
BYTE_COUNT: 5279
