FILENAME: O4810538.SES.1162636.tif
QUADRANGLE_NAME: WINDY BUTTE
QUADRANT: SE
WEST_LONGITUDE: -105 18 45.00000
EAST_LONGITUDE: -105 15 0.00000
NORTH_LATITUDE: 48 26 15.00000
SOUTH_LATITUDE: 48 22 30.00000
PRODUCTION_DATE: 2001 9 23
RASTER_ORDER: LEFT_RIGHT/TOP_BOTTOM
BAND_ORGANIZATION: SINGLE FILE
BAND_CONTENT: BLACK&WHITE
BAND_CONTENT: UNDEFINED
BAND_CONTENT: UNDEFINED
BITS_PER_PIXEL: 8
SAMPLES_AND_LINES: 5302 7578
HORIZONTAL_DATUM: NAD83
HORIZONTAL_COORDINATE_SYSTEM: UTM
COORDINATE_ZONE: 13
HORIZONTAL_UNITS: meters
HORIZONTAL_RESOLUTION: 1.00000
SECONDARY_HORIZONTAL_DATUM: NAD27
XY_ORIGIN: 476513.00000 5365284.00000
SECONDARY_XY_ORIGIN: 476552.41200 5365062.45400
NATION: US
STATE: MT
NW_QUAD_CORNER_XY: 476886.69500 5364975.55500
NE_QUAD_CORNER_XY: 481509.35200 5364958.57600
SE_QUAD_CORNERY_XY: 481486.68200 5358011.47500
SW_QUAD_CORNER_XY: 476858.35800 5358028.45800
SECONDARY_NW_QUAD_XY: 476885.96100 5364756.59200
SECONDARY_NE_QUAD_XY: 481508.76500 5364739.61300
SECONDARY_SE_QUAD_XY: 481486.09500 5357792.52100
SECONDARY_SW_QUAD_XY: 476857.62400 5357809.50500
RMSE_XY: 5.12000
IMAGE_SOURCE: BLACK AND WHITE FILM
SOURCE_IMAGE_ID: NAPP 9116-155
SOURCE_IMAGE_DATE: 1996 8 27
SOURCE_DEM_DATE: 1998 0 0
AGENCY: WESTERN MAPPING CENTER (WMC)
PRODUCER: WOOLPERT LLP
PRODUCTION_SYSTEM: INTERGRAPH ISPM, ISIR
COMPRESSION: UNDEFINED
STANDARD_VERSION: 1996 12
METADATA_DATE: 2001 9 23
DATA_FILE_SIZE: 40183858
BYTE_COUNT: 5302
